BEGIN:VCALENDAR
VERSION:2.0
PRODID:-// - ECPv6.15.20//NONSGML v1.0//EN
CALSCALE:GREGORIAN
METHOD:PUBLISH
X-ORIGINAL-URL:https://ourjourney.info
X-WR-CALDESC:Events for 
REFRESH-INTERVAL;VALUE=DURATION:PT1H
X-Robots-Tag:noindex
X-PUBLISHED-TTL:PT1H
BEGIN:VTIMEZONE
TZID:America/Denver
BEGIN:DAYLIGHT
TZOFFSETFROM:-0700
TZOFFSETTO:-0600
TZNAME:MDT
DTSTART:20230312T090000
END:DAYLIGHT
BEGIN:STANDARD
TZOFFSETFROM:-0600
TZOFFSETTO:-0700
TZNAME:MST
DTSTART:20231105T080000
END:STANDARD
BEGIN:DAYLIGHT
TZOFFSETFROM:-0700
TZOFFSETTO:-0600
TZNAME:MDT
DTSTART:20240310T090000
END:DAYLIGHT
BEGIN:STANDARD
TZOFFSETFROM:-0600
TZOFFSETTO:-0700
TZNAME:MST
DTSTART:20241103T080000
END:STANDARD
BEGIN:DAYLIGHT
TZOFFSETFROM:-0700
TZOFFSETTO:-0600
TZNAME:MDT
DTSTART:20250309T090000
END:DAYLIGHT
BEGIN:STANDARD
TZOFFSETFROM:-0600
TZOFFSETTO:-0700
TZNAME:MST
DTSTART:20251102T080000
END:STANDARD
END:VTIMEZONE
BEGIN:VEVENT
DTSTART;TZID=America/Denver:20240810T170000
DTEND;TZID=America/Denver:20240810T193000
DTSTAMP:20260424T000735
CREATED:20240514T041910Z
LAST-MODIFIED:20240514T041910Z
UID:4331-1723309200-1723318200@ourjourney.info
SUMMARY:Kiowa Music in the Park
DESCRIPTION:Bring your lawn chairs or blankets\, grab dinner from one of the food trucks & enjoy the music.
URL:https://ourjourney.info/event/kiowa-music-in-the-park-6/
LOCATION:Nordman Memorial Park\, 201 Navajo Street\, Kiowa\, CO\, 80117\, United States
END:VEVENT
BEGIN:VEVENT
DTSTART;TZID=America/Denver:20240809T183000
DTEND;TZID=America/Denver:20240809T183000
DTSTAMP:20260424T000735
CREATED:20240514T041736Z
LAST-MODIFIED:20240514T041736Z
UID:4327-1723228200-1723228200@ourjourney.info
SUMMARY:Old Town’s Wild West Dinner Theatre
DESCRIPTION:A complete western supper followed by an old-fashioned melodrama with a gunfight. Reservations required. Adults $25\, kids $10.
URL:https://ourjourney.info/event/old-towns-wild-west-dinner-theatre-14/
LOCATION:Old Town Museum
END:VEVENT
BEGIN:VEVENT
DTSTART;TZID=America/Denver:20240809T170000
DTEND;TZID=America/Denver:20240809T210000
DTSTAMP:20260424T000735
CREATED:20240514T041642Z
LAST-MODIFIED:20240514T041642Z
UID:4325-1723222800-1723237200@ourjourney.info
SUMMARY:Friday Night Market
DESCRIPTION:
URL:https://ourjourney.info/event/friday-night-market-9/
LOCATION:500 E. Kiowa Ave\, Elizabeth\, 500 E. Kiowa Ave\, Elizabeth\, CO\, 80107\, United States
END:VEVENT
BEGIN:VEVENT
DTSTART;TZID=America/Denver:20240805T180000
DTEND;TZID=America/Denver:20240805T210000
DTSTAMP:20260424T000735
CREATED:20240514T041556Z
LAST-MODIFIED:20240514T041556Z
UID:4323-1722880800-1722891600@ourjourney.info
SUMMARY:Elbert Woman’s Club Bingo Night
DESCRIPTION:
URL:https://ourjourney.info/event/elbert-womans-club-bingo-night-16/
LOCATION:Russell Gates Mercantile\, 24223 Eccles St\, Elbert\, Colorado\, 80106
END:VEVENT
BEGIN:VEVENT
DTSTART;VALUE=DATE:20240803
DTEND;VALUE=DATE:20240804
DTSTAMP:20260424T000735
CREATED:20240514T041359Z
LAST-MODIFIED:20240514T041359Z
UID:4321-1722643200-1722729599@ourjourney.info
SUMMARY:Bellamy Brothers concert after the rodeo
DESCRIPTION:
URL:https://ourjourney.info/event/bellamy-brothers-concert-after-the-rodeo/
LOCATION:Elbert County Fairgrounds\, 95 Ute Ave\, Kiowa\, Colorado\, 80117
END:VEVENT
BEGIN:VEVENT
DTSTART;TZID=America/Denver:20240802T193000
DTEND;TZID=America/Denver:20240802T193000
DTSTAMP:20260424T000735
CREATED:20240514T041235Z
LAST-MODIFIED:20240514T041235Z
UID:4317-1722627000-1722627000@ourjourney.info
SUMMARY:Limon Rotary Concert in the Park
DESCRIPTION:The Long Run Band (Colorado’s Tribute to the Eagles)
URL:https://ourjourney.info/event/limon-rotary-concert-in-the-park-5/
LOCATION:Railroad Park\, 899 1st St\, Limon\, CO\, 80828\, United States
END:VEVENT
BEGIN:VEVENT
DTSTART;TZID=America/Denver:20240802T170000
DTEND;TZID=America/Denver:20240802T210000
DTSTAMP:20260424T000735
CREATED:20240514T041316Z
LAST-MODIFIED:20240514T041316Z
UID:4319-1722618000-1722632400@ourjourney.info
SUMMARY:Friday Night Market
DESCRIPTION:
URL:https://ourjourney.info/event/friday-night-market-8/
LOCATION:500 E. Kiowa Ave\, Elizabeth\, 500 E. Kiowa Ave\, Elizabeth\, CO\, 80107\, United States
END:VEVENT
BEGIN:VEVENT
DTSTART;TZID=America/Denver:20240801T173000
DTEND;TZID=America/Denver:20240801T193000
DTSTAMP:20260424T000735
CREATED:20240514T041143Z
LAST-MODIFIED:20240514T041143Z
UID:4315-1722533400-1722540600@ourjourney.info
SUMMARY:Colorado Day Ice Cream Social
DESCRIPTION:
URL:https://ourjourney.info/event/colorado-day-ice-cream-social-2/
LOCATION:Nordman Memorial Park\, 201 Navajo Street\, Kiowa\, CO\, 80117\, United States
END:VEVENT
BEGIN:VEVENT
DTSTART;TZID=America/Denver:20240728T080000
DTEND;TZID=America/Denver:20240728T120000
DTSTAMP:20260424T000735
CREATED:20240513T201618Z
LAST-MODIFIED:20240513T201618Z
UID:4313-1722153600-1722168000@ourjourney.info
SUMMARY:Elbert Woman’s Club Breakfast
DESCRIPTION:
URL:https://ourjourney.info/event/elbert-womans-club-breakfast-15/
LOCATION:Russell Gates Mercantile\, 24223 Eccles St\, Elbert\, Colorado\, 80106
END:VEVENT
BEGIN:VEVENT
DTSTART;TZID=America/Denver:20240728T073000
DTEND;TZID=America/Denver:20240728T193000
DTSTAMP:20260424T000735
CREATED:20240513T201531Z
LAST-MODIFIED:20240513T201531Z
UID:4311-1722151800-1722195000@ourjourney.info
SUMMARY:Bailey Saddleland Museum’s Annual El Paso County Wagon Train/Trail Ride
DESCRIPTION:Ride begins 10AM-3PM at Bailey Saddleland Museum. 1 mile north of town\, Simla
URL:https://ourjourney.info/event/bailey-saddleland-museums-annual-el-paso-county-wagon-train-trail-ride/
LOCATION:Bailey Saddleland Museum\, 20140 Co. Rd. 125\, Simla\, CO\, 80835\, United States
END:VEVENT
BEGIN:VEVENT
DTSTART;TZID=America/Denver:20240727T193000
DTEND;TZID=America/Denver:20240727T193000
DTSTAMP:20260424T000735
CREATED:20240513T200823Z
LAST-MODIFIED:20240513T200823Z
UID:4300-1722108600-1722108600@ourjourney.info
SUMMARY:Kit Carson County PRCA Rodeo and Concert
DESCRIPTION:Kit Carson County PRCA Rodeo 7:30PM. Reckless Kelly concert following the rodeo.
URL:https://ourjourney.info/event/kit-carson-county-prca-rodeo-and-concert/
LOCATION:Kit Carson County Fairgrounds\, 815 15th Street\, Burlington\, Colorado\, 80807
END:VEVENT
BEGIN:VEVENT
DTSTART;TZID=America/Denver:20240727T180000
DTEND;TZID=America/Denver:20240727T180000
DTSTAMP:20260424T000735
CREATED:20240513T201011Z
LAST-MODIFIED:20240513T201011Z
UID:4304-1722103200-1722103200@ourjourney.info
SUMMARY:Centennial Farms & Ranchers Banquet
DESCRIPTION:
URL:https://ourjourney.info/event/centennial-farms-ranchers-banquet/
LOCATION:Elbert County Fairgrounds\, 95 Ute Ave\, Kiowa\, Colorado\, 80117
END:VEVENT
BEGIN:VEVENT
DTSTART;TZID=America/Denver:20240727T170000
DTEND;TZID=America/Denver:20240727T193000
DTSTAMP:20260424T000736
CREATED:20240513T200928Z
LAST-MODIFIED:20240513T200928Z
UID:4302-1722099600-1722108600@ourjourney.info
SUMMARY:Kiowa Music in the Park
DESCRIPTION:Bring your lawn chairs or blankets\, grab dinner from one of the food trucks & enjoy the music.
URL:https://ourjourney.info/event/kiowa-music-in-the-park-5/
LOCATION:Nordman Memorial Park\, 201 Navajo Street\, Kiowa\, CO\, 80117\, United States
END:VEVENT
BEGIN:VEVENT
DTSTART;TZID=America/Denver:20240727T073000
DTEND;TZID=America/Denver:20240727T193000
DTSTAMP:20260424T000736
CREATED:20240513T201357Z
LAST-MODIFIED:20240513T201357Z
UID:4308-1722065400-1722108600@ourjourney.info
SUMMARY:Bailey Saddleland Museum’s Annual El Paso County Wagon Train/Trail
DESCRIPTION:Ride begins 10AM-3PM at Bailey Saddleland Museum. 1 mile north of town\, Simla
URL:https://ourjourney.info/event/bailey-saddleland-museums-annual-el-paso-county-wagon-train-trail/
LOCATION:Bailey Saddleland Museum\, 20140 Co. Rd. 125\, Simla\, CO\, 80835\, United States
END:VEVENT
BEGIN:VEVENT
DTSTART;VALUE=DATE:20240727
DTEND;VALUE=DATE:20240805
DTSTAMP:20260424T000736
CREATED:20240513T201059Z
LAST-MODIFIED:20240513T201059Z
UID:4306-1722038400-1722815999@ourjourney.info
SUMMARY:Elbert County Fair
DESCRIPTION:
URL:https://ourjourney.info/event/elbert-county-fair-5/
LOCATION:Elbert County Fairgrounds\, 95 Ute Ave\, Kiowa\, Colorado\, 80117
END:VEVENT
BEGIN:VEVENT
DTSTART;TZID=America/Denver:20240726T200000
DTEND;TZID=America/Denver:20240726T200000
DTSTAMP:20260424T000736
CREATED:20240513T200719Z
LAST-MODIFIED:20240513T200719Z
UID:4298-1722024000-1722024000@ourjourney.info
SUMMARY:Kit Carson County PRCA Rodeo
DESCRIPTION:
URL:https://ourjourney.info/event/kit-carson-county-prca-rodeo-3/
LOCATION:Kit Carson County Fairgrounds\, 815 15th Street\, Burlington\, Colorado\, 80807
END:VEVENT
BEGIN:VEVENT
DTSTART;TZID=America/Denver:20240726T170000
DTEND;TZID=America/Denver:20240726T210000
DTSTAMP:20260424T000736
CREATED:20240513T200636Z
LAST-MODIFIED:20240513T200636Z
UID:4296-1722013200-1722027600@ourjourney.info
SUMMARY:Friday Night Market
DESCRIPTION:
URL:https://ourjourney.info/event/friday-night-market-7/
LOCATION:500 E. Kiowa Ave\, Elizabeth\, 500 E. Kiowa Ave\, Elizabeth\, CO\, 80107\, United States
END:VEVENT
BEGIN:VEVENT
DTSTART;VALUE=DATE:20240725
DTEND;VALUE=DATE:20240726
DTSTAMP:20260424T000736
CREATED:20240513T200551Z
LAST-MODIFIED:20240513T200551Z
UID:4294-1721865600-1721951999@ourjourney.info
SUMMARY:Kit Carson County Fair County Events Day & BBQ
DESCRIPTION:Kit Carson County Fair County Events Day & BBQ 11AM-1PM. Kid’s events on track 1PM. Parade of Livestock 7PM\, PRCA Rodeo 8PM
URL:https://ourjourney.info/event/kit-carson-county-fair-county-events-day-bbq/
LOCATION:Kit Carson County Fairgrounds\, 815 15th Street\, Burlington\, Colorado\, 80807
END:VEVENT
BEGIN:VEVENT
DTSTART;TZID=America/Denver:20240721T090000
DTEND;TZID=America/Denver:20240721T160000
DTSTAMP:20260424T000736
CREATED:20240513T200339Z
LAST-MODIFIED:20240513T200339Z
UID:4290-1721552400-1721577600@ourjourney.info
SUMMARY:Elizabeth Celtic Festival
DESCRIPTION:Scottish food\, Irish Whiskey ice cream\, great beers & ales\, Celtic music\, dancing\, piping\, Scottish Heavy Athletics contests\, local artisans\, kid friendly activities.
URL:https://ourjourney.info/event/elizabeth-celtic-festival-6/
LOCATION:Casey Jones Park\, 4189 CO-86\, Elizabeth\, CO\, 80107\, United States
END:VEVENT
BEGIN:VEVENT
DTSTART;VALUE=DATE:20240721
DTEND;VALUE=DATE:20240728
DTSTAMP:20260424T000736
CREATED:20240513T200450Z
LAST-MODIFIED:20240513T200450Z
UID:4292-1721520000-1722124799@ourjourney.info
SUMMARY:Kit Carson County Fair & PRCA Rodeos
DESCRIPTION:
URL:https://ourjourney.info/event/kit-carson-county-fair-prca-rodeos/
LOCATION:Kit Carson County Fairgrounds\, 815 15th Street\, Burlington\, Colorado\, 80807
END:VEVENT
BEGIN:VEVENT
DTSTART;TZID=America/Denver:20240720T183000
DTEND;TZID=America/Denver:20240720T183000
DTSTAMP:20260424T000736
CREATED:20240513T195948Z
LAST-MODIFIED:20240513T195948Z
UID:4286-1721500200-1721500200@ourjourney.info
SUMMARY:Old Town’s Wild West Dinner Theatre
DESCRIPTION:A complete western supper followed by an old-fashioned melodrama with a gunfight. Reservations required. Adults $25\, kids $10.
URL:https://ourjourney.info/event/old-towns-wild-west-dinner-theatre-13/
LOCATION:Old Town Museum
END:VEVENT
BEGIN:VEVENT
DTSTART;TZID=America/Denver:20240720T090000
DTEND;TZID=America/Denver:20240720T170000
DTSTAMP:20260424T000736
CREATED:20240513T200250Z
LAST-MODIFIED:20240513T200250Z
UID:4288-1721466000-1721494800@ourjourney.info
SUMMARY:Elizabeth Celtic Festival
DESCRIPTION:Scottish food\, Irish Whiskey ice cream\, great beers & ales\, Celtic music\, dancing\, piping\, Scottish Heavy Athletics contests\, local artisans\, kid friendly activities.
URL:https://ourjourney.info/event/elizabeth-celtic-festival-5/
LOCATION:Casey Jones Park\, 4189 CO-86\, Elizabeth\, CO\, 80107\, United States
END:VEVENT
BEGIN:VEVENT
DTSTART;TZID=America/Denver:20240719T183000
DTEND;TZID=America/Denver:20240719T183000
DTSTAMP:20260424T000736
CREATED:20240513T195915Z
LAST-MODIFIED:20240513T195915Z
UID:4284-1721413800-1721413800@ourjourney.info
SUMMARY:Old Town’s Wild West Dinner Theatre
DESCRIPTION:A complete western supper followed by an old-fashioned melodrama with a gunfight. Reservations required. Adults $25\, kids $10.
URL:https://ourjourney.info/event/old-towns-wild-west-dinner-theatre-12/
LOCATION:Old Town Museum
END:VEVENT
BEGIN:VEVENT
DTSTART;TZID=America/Denver:20240719T170000
DTEND;TZID=America/Denver:20240719T210000
DTSTAMP:20260424T000736
CREATED:20240513T195822Z
LAST-MODIFIED:20240513T195822Z
UID:4282-1721408400-1721422800@ourjourney.info
SUMMARY:Friday Night Market
DESCRIPTION:
URL:https://ourjourney.info/event/friday-night-market-6/
LOCATION:500 E. Kiowa Ave\, Elizabeth\, 500 E. Kiowa Ave\, Elizabeth\, CO\, 80107\, United States
END:VEVENT
BEGIN:VEVENT
DTSTART;TZID=America/Denver:20240719T100000
DTEND;TZID=America/Denver:20240719T100000
DTSTAMP:20260424T000736
CREATED:20240513T195738Z
LAST-MODIFIED:20240513T195738Z
UID:4280-1721383200-1721383200@ourjourney.info
SUMMARY:East Cheyenne Historical Society History Presentation
DESCRIPTION:
URL:https://ourjourney.info/event/east-cheyenne-historical-society-history-presentation/
LOCATION:Cheyenne County Fairgrounds\, West 6th Street S\,\, Cheyenne Wells\, CO\, 80810\, United States
END:VEVENT
BEGIN:VEVENT
DTSTART;TZID=America/Denver:20240713T170000
DTEND;TZID=America/Denver:20240713T193000
DTSTAMP:20260424T000736
CREATED:20240513T195645Z
LAST-MODIFIED:20240513T195645Z
UID:4278-1720890000-1720899000@ourjourney.info
SUMMARY:Kiowa Music in the Park
DESCRIPTION:Bring your lawn chairs or blankets\, grab dinner from one of the  food trucks & enjoy the music.
URL:https://ourjourney.info/event/kiowa-music-in-the-park-4/
LOCATION:Nordman Memorial Park\, 201 Navajo Street\, Kiowa\, CO\, 80117\, United States
END:VEVENT
BEGIN:VEVENT
DTSTART;TZID=America/Denver:20240712T170000
DTEND;TZID=America/Denver:20240712T210000
DTSTAMP:20260424T000736
CREATED:20240513T195413Z
LAST-MODIFIED:20240513T195413Z
UID:4274-1720803600-1720818000@ourjourney.info
SUMMARY:Friday Night Market
DESCRIPTION:
URL:https://ourjourney.info/event/friday-night-market-5/
LOCATION:500 E. Kiowa Ave\, Elizabeth\, 500 E. Kiowa Ave\, Elizabeth\, CO\, 80107\, United States
END:VEVENT
BEGIN:VEVENT
DTSTART;VALUE=DATE:20240712
DTEND;VALUE=DATE:20240722
DTSTAMP:20260424T000736
CREATED:20240513T195544Z
LAST-MODIFIED:20240513T195544Z
UID:4276-1720742400-1721606399@ourjourney.info
SUMMARY:Cheyenne County Tumbleweed Fair & Rodeo
DESCRIPTION:Family fun activities\, 4-H projects\, livestock shows & judging\, Celebrity Pig Show\, PRCA Rodeos\, carnival & more.
URL:https://ourjourney.info/event/cheyenne-county-tumbleweed-fair-rodeo-2/
LOCATION:Cheyenne County Fairgrounds\, West 6th Street S\,\, Cheyenne Wells\, CO\, 80810\, United States
END:VEVENT
BEGIN:VEVENT
DTSTART;TZID=America/Denver:20240706T180000
DTEND;TZID=America/Denver:20240706T180000
DTSTAMP:20260424T000736
CREATED:20240513T190325Z
LAST-MODIFIED:20240513T190325Z
UID:4272-1720288800-1720288800@ourjourney.info
SUMMARY:Limon Rotary Concert in the Park
DESCRIPTION:featuring Potcheen
URL:https://ourjourney.info/event/limon-rotary-concert-in-the-park-4/
LOCATION:Railroad Park\, 899 1st St\, Limon\, CO\, 80828\, United States
END:VEVENT
BEGIN:VEVENT
DTSTART;TZID=America/Denver:20240705T170000
DTEND;TZID=America/Denver:20240705T210000
DTSTAMP:20260424T000736
CREATED:20240513T190218Z
LAST-MODIFIED:20240513T190218Z
UID:4270-1720198800-1720213200@ourjourney.info
SUMMARY:Friday Night Market
DESCRIPTION:
URL:https://ourjourney.info/event/friday-night-market-4/
LOCATION:500 E. Kiowa Ave\, Elizabeth\, 500 E. Kiowa Ave\, Elizabeth\, CO\, 80107\, United States
END:VEVENT
END:VCALENDAR