BEGIN:VCALENDAR
VERSION:2.0
PRODID:-// - ECPv6.15.20//NONSGML v1.0//EN
CALSCALE:GREGORIAN
METHOD:PUBLISH
X-ORIGINAL-URL:https://ourjourney.info
X-WR-CALDESC:Events for 
REFRESH-INTERVAL;VALUE=DURATION:PT1H
X-Robots-Tag:noindex
X-PUBLISHED-TTL:PT1H
BEGIN:VTIMEZONE
TZID:America/Denver
BEGIN:DAYLIGHT
TZOFFSETFROM:-0700
TZOFFSETTO:-0600
TZNAME:MDT
DTSTART:20230312T090000
END:DAYLIGHT
BEGIN:STANDARD
TZOFFSETFROM:-0600
TZOFFSETTO:-0700
TZNAME:MST
DTSTART:20231105T080000
END:STANDARD
BEGIN:DAYLIGHT
TZOFFSETFROM:-0700
TZOFFSETTO:-0600
TZNAME:MDT
DTSTART:20240310T090000
END:DAYLIGHT
BEGIN:STANDARD
TZOFFSETFROM:-0600
TZOFFSETTO:-0700
TZNAME:MST
DTSTART:20241103T080000
END:STANDARD
BEGIN:DAYLIGHT
TZOFFSETFROM:-0700
TZOFFSETTO:-0600
TZNAME:MDT
DTSTART:20250309T090000
END:DAYLIGHT
BEGIN:STANDARD
TZOFFSETFROM:-0600
TZOFFSETTO:-0700
TZNAME:MST
DTSTART:20251102T080000
END:STANDARD
END:VTIMEZONE
BEGIN:VEVENT
DTSTART;TZID=America/Denver:20240704T113000
DTEND;TZID=America/Denver:20240704T123000
DTSTAMP:20260424T051724
CREATED:20240513T185514Z
LAST-MODIFIED:20240513T185514Z
UID:4264-1720092600-1720096200@ourjourney.info
SUMMARY:Rosie the Riveter Presentation by Gail Beaton w/Lunch
DESCRIPTION:$8.00 per plate. Presentation @ 1PM
URL:https://ourjourney.info/event/rosie-the-riveter-presentation-by-gail-beaton-w-lunch/
LOCATION:Eastern Trails Depot\, 635 4th Street\, Hugo\, CO\, 80821\, United States
END:VEVENT
BEGIN:VEVENT
DTSTART;TZID=America/Denver:20240704T100000
DTEND;TZID=America/Denver:20240704T163000
DTSTAMP:20260424T051724
CREATED:20240513T190029Z
LAST-MODIFIED:20240513T190029Z
UID:4267-1720087200-1720110600@ourjourney.info
SUMMARY:Hedlund House Museum offers Tom Sawyer\, Huck Finn & Becky Thatcher Day
DESCRIPTION:Tom Sawyer Watermelon Roll & Huck Finn Fishing Derby 10AM-3PM. Becky Thatcher Pie Auction Fundraiser for museum floor repairs 3-4:30PM
URL:https://ourjourney.info/event/hedlund-house-museum-offers-tom-sawyer-huck-finn-becky-thatcher-day/
LOCATION:Hedlund House Museum\, 617 3rd Ave.\, Hugo\, CO\, 80821\, United States
END:VEVENT
BEGIN:VEVENT
DTSTART;TZID=America/Denver:20240704T100000
DTEND;TZID=America/Denver:20240704T150000
DTSTAMP:20260424T051724
CREATED:20240513T185217Z
LAST-MODIFIED:20240513T185217Z
UID:4262-1720087200-1720105200@ourjourney.info
SUMMARY:Elbert County Historical Society Annual Pioneer Fourth Celebration
DESCRIPTION:Museum open house\, live music\, pie baking contest\, silent auction\, games & more.
URL:https://ourjourney.info/event/elbert-county-historical-society-annual-pioneer-fourth-celebration/
LOCATION:Elbert County Museum\, 515 Commanche Street\, Kiowa\, CO\, United States
END:VEVENT
BEGIN:VEVENT
DTSTART;TZID=America/Denver:20240701T180000
DTEND;TZID=America/Denver:20240701T210000
DTSTAMP:20260424T051724
CREATED:20240513T185051Z
LAST-MODIFIED:20240513T185051Z
UID:4260-1719856800-1719867600@ourjourney.info
SUMMARY:Elbert Woman’s Club Bingo Night
DESCRIPTION:
URL:https://ourjourney.info/event/elbert-womans-club-bingo-night-15/
LOCATION:Russell Gates Mercantile\, 24223 Eccles St\, Elbert\, Colorado\, 80106
END:VEVENT
BEGIN:VEVENT
DTSTART;TZID=America/Denver:20240629T183000
DTEND;TZID=America/Denver:20240629T183000
DTSTAMP:20260424T051724
CREATED:20240510T200246Z
LAST-MODIFIED:20240510T200246Z
UID:4251-1719685800-1719685800@ourjourney.info
SUMMARY:Old Town’s Wild West Dinner Theatre
DESCRIPTION:A complete western supper followed by an old-fashioned melodrama with a gunfight. Reservations required. Adults $25\, kids $10.
URL:https://ourjourney.info/event/old-towns-wild-west-dinner-theatre-11/
LOCATION:Old Town Museum
END:VEVENT
BEGIN:VEVENT
DTSTART;TZID=America/Denver:20240629T170000
DTEND;TZID=America/Denver:20240629T193000
DTSTAMP:20260424T051724
CREATED:20240510T200414Z
LAST-MODIFIED:20240510T200414Z
UID:4253-1719680400-1719689400@ourjourney.info
SUMMARY:Kiowa Music in the Park
DESCRIPTION:Bring your lawn chairs or blankets\, grab dinner from one of the food trucks & enjoy the music.
URL:https://ourjourney.info/event/kiowa-music-in-the-park-3/
LOCATION:Nordman Memorial Park\, 201 Navajo Street\, Kiowa\, CO\, 80117\, United States
END:VEVENT
BEGIN:VEVENT
DTSTART;TZID=America/Denver:20240629T063000
DTEND;TZID=America/Denver:20240629T220000
DTSTAMP:20260424T051724
CREATED:20240510T200733Z
LAST-MODIFIED:20240510T200733Z
UID:4255-1719642600-1719698400@ourjourney.info
SUMMARY:Kickoff to Independence Day
DESCRIPTION:
URL:https://ourjourney.info/event/kickoff-to-independence-day/
LOCATION:Limon Public School\, 874 F Ave.\, Limon\, CO\, 80828\, United States
END:VEVENT
BEGIN:VEVENT
DTSTART;VALUE=DATE:20240629
DTEND;VALUE=DATE:20240701
DTSTAMP:20260424T051724
CREATED:20240510T200935Z
LAST-MODIFIED:20240510T200935Z
UID:4258-1719619200-1719791999@ourjourney.info
SUMMARY:Thunder on the Plains Tournament
DESCRIPTION:Girls ages 18 & under. Burlington Softball Complex
URL:https://ourjourney.info/event/thunder-on-the-plains-tournament-3/
LOCATION:CO
END:VEVENT
BEGIN:VEVENT
DTSTART;TZID=America/Denver:20240628T183000
DTEND;TZID=America/Denver:20240628T183000
DTSTAMP:20260424T051724
CREATED:20240510T200148Z
LAST-MODIFIED:20240510T200148Z
UID:4249-1719599400-1719599400@ourjourney.info
SUMMARY:Old Town’s Wild West Dinner Theatre
DESCRIPTION:A complete western supper followed by an old-fashioned melodrama with a gunfight. Reservations required. Adults $25\, kids $10.
URL:https://ourjourney.info/event/old-towns-wild-west-dinner-theatre-10/
LOCATION:Old Town Museum
END:VEVENT
BEGIN:VEVENT
DTSTART;TZID=America/Denver:20240628T170000
DTEND;TZID=America/Denver:20240628T210000
DTSTAMP:20260424T051724
CREATED:20240510T200041Z
LAST-MODIFIED:20240510T200041Z
UID:4247-1719594000-1719608400@ourjourney.info
SUMMARY:Friday Night Market
DESCRIPTION:
URL:https://ourjourney.info/event/friday-night-market-3/
LOCATION:500 E. Kiowa Ave\, Elizabeth\, 500 E. Kiowa Ave\, Elizabeth\, CO\, 80107\, United States
END:VEVENT
BEGIN:VEVENT
DTSTART;VALUE=DATE:20240628
DTEND;VALUE=DATE:20240630
DTSTAMP:20260424T051724
CREATED:20240510T195919Z
LAST-MODIFIED:20240510T195919Z
UID:4245-1719532800-1719705599@ourjourney.info
SUMMARY:Cowboy Up in Kiowa CPRA Rodeo Hero’s Night\, honoring military veterans and first responders. Mutton bustin’ & Kids’ Boot Scramble
DESCRIPTION:Rodeo performance 7:00 PM. Concert: Eric Golden 9:30PM
URL:https://ourjourney.info/event/cowboy-up-in-kiowa-cpra-rodeo-heros-night-honoring-military-veterans-and-first-responders-mutton-bustin-kids-boot-scramble/
LOCATION:Elbert County Fairgrounds\, 95 Ute Ave\, Kiowa\, Colorado\, 80117
END:VEVENT
BEGIN:VEVENT
DTSTART;TZID=America/Denver:20240623T080000
DTEND;TZID=America/Denver:20240623T120000
DTSTAMP:20260424T051724
CREATED:20240510T195627Z
LAST-MODIFIED:20240510T195627Z
UID:4243-1719129600-1719144000@ourjourney.info
SUMMARY:Elbert Woman’s Club Breakfast
DESCRIPTION:
URL:https://ourjourney.info/event/elbert-womans-club-breakfast-14/
LOCATION:Russell Gates Mercantile\, 24223 Eccles St\, Elbert\, Colorado\, 80106
END:VEVENT
BEGIN:VEVENT
DTSTART;TZID=America/Denver:20240622T083000
DTEND;TZID=America/Denver:20240622T230000
DTSTAMP:20260424T051724
CREATED:20240510T194441Z
LAST-MODIFIED:20240510T194441Z
UID:4236-1719045000-1719097200@ourjourney.info
SUMMARY:Colorado Championship Ranch Rodeo & Chuck Wagon Cookoff
DESCRIPTION:Trade Show 8:30AM. WRCA Youth Ranch Rodeo 9AM. Bronc Rider Calcutta 1:30PM. Jeremiah Ward Memorial Open Ranch Bronc Riding 2PM\, Chuck Wagon Cook Off Meal 3:30PM (meal tickets required). Ranch Rodeo 5:30PM\, Ned LeDoux Concert featuring Caitlyn Oschner 8:30PM.  33747 County Rd. 2W\, Hugo
URL:https://ourjourney.info/event/colorado-championship-ranch-rodeo-chuck-wagon-cookoff-2/
LOCATION:Lincoln County Fairgrounds\, 33747 County Road 2W\, Hugo\, CO\, 80821\, United States
END:VEVENT
BEGIN:VEVENT
DTSTART;TZID=America/Denver:20240622T080000
DTEND;TZID=America/Denver:20240622T170000
DTSTAMP:20260424T051724
CREATED:20240510T195312Z
LAST-MODIFIED:20240510T195312Z
UID:4238-1719043200-1719075600@ourjourney.info
SUMMARY:Cheyenne Wells Fire Department Nut Fry
DESCRIPTION:Time & location TBD
URL:https://ourjourney.info/event/cheyenne-wells-fire-department-nut-fry/
LOCATION:CO
END:VEVENT
BEGIN:VEVENT
DTSTART;VALUE=DATE:20240622
DTEND;VALUE=DATE:20240624
DTSTAMP:20260424T051724
CREATED:20240510T195448Z
LAST-MODIFIED:20240510T195529Z
UID:4240-1719014400-1719187199@ourjourney.info
SUMMARY:Cheyenne County Tumbleweed Softball Games
DESCRIPTION:Start times TBD
URL:https://ourjourney.info/event/cheyenne-county-tumbleweed-softball-games/
LOCATION:cheyenne wells
END:VEVENT
BEGIN:VEVENT
DTSTART;TZID=America/Denver:20240621T170000
DTEND;TZID=America/Denver:20240621T210000
DTSTAMP:20260424T051724
CREATED:20240510T193835Z
LAST-MODIFIED:20240510T193835Z
UID:4232-1718989200-1719003600@ourjourney.info
SUMMARY:Friday Night Market
DESCRIPTION:
URL:https://ourjourney.info/event/friday-night-market-2/
LOCATION:500 E. Kiowa Ave\, Elizabeth\, 500 E. Kiowa Ave\, Elizabeth\, CO\, 80107\, United States
END:VEVENT
BEGIN:VEVENT
DTSTART;TZID=America/Denver:20240621T120000
DTEND;TZID=America/Denver:20240621T230000
DTSTAMP:20260424T051724
CREATED:20240510T194118Z
LAST-MODIFIED:20240510T194118Z
UID:4234-1718971200-1719010800@ourjourney.info
SUMMARY:Colorado Championship Ranch Rodeo WRAC Top Hand Competition
DESCRIPTION:Trade Show 3-9PM. First Rodeo Performance 5:30pm. Free Back Alley Dance 8:30PM w/live band behind Plains Bar & VFW.
URL:https://ourjourney.info/event/colorado-championship-ranch-rodeo-wrac-top-hand-competition/
LOCATION:Lincoln County Fairgrounds\, 33747 County Road 2W\, Hugo\, CO\, 80821\, United States
END:VEVENT
BEGIN:VEVENT
DTSTART;TZID=America/Denver:20240615T170000
DTEND;TZID=America/Denver:20240615T193000
DTSTAMP:20260424T051724
CREATED:20240510T193331Z
LAST-MODIFIED:20240510T193331Z
UID:4226-1718470800-1718479800@ourjourney.info
SUMMARY:Kiowa Music in the Park
DESCRIPTION:Bring your lawn chairs or blankets\, grab dinner from one of the food trucks & enjoy the music.
URL:https://ourjourney.info/event/kiowa-music-in-the-park-2/
LOCATION:Nordman Memorial Park\, 201 Navajo Street\, Kiowa\, CO\, 80117\, United States
END:VEVENT
BEGIN:VEVENT
DTSTART;TZID=America/Denver:20240615T090000
DTEND;TZID=America/Denver:20240615T160000
DTSTAMP:20260424T051724
CREATED:20240510T193551Z
LAST-MODIFIED:20240510T193551Z
UID:4228-1718442000-1718467200@ourjourney.info
SUMMARY:Limon Heritage Day
DESCRIPTION:New Displays – Gates House\, antique guns\, antique coins\, arrowheads\, & cowboy poet.
URL:https://ourjourney.info/event/limon-heritage-day/
LOCATION:Railroad Park\, 899 1st St\, Limon\, CO\, 80828\, United States
END:VEVENT
BEGIN:VEVENT
DTSTART;TZID=America/Denver:20240615T080000
DTEND;TZID=America/Denver:20240615T230000
DTSTAMP:20260424T051724
CREATED:20240510T193721Z
LAST-MODIFIED:20240510T193721Z
UID:4230-1718438400-1718492400@ourjourney.info
SUMMARY:Celebration of Summer
DESCRIPTION:Show & Shine Car\, Bike & Tractor show 11-3PM. Craft & food vendors\, beer garden & live entertainment.
URL:https://ourjourney.info/event/celebration-of-summer-3/
LOCATION:Parmer Park\, 1858 Ben St.\, Burlington\, CO\, 80807\, United States
END:VEVENT
BEGIN:VEVENT
DTSTART;TZID=America/Denver:20240614T180000
DTEND;TZID=America/Denver:20240614T180000
DTSTAMP:20260424T051724
CREATED:20240510T192906Z
LAST-MODIFIED:20240510T192906Z
UID:4222-1718388000-1718388000@ourjourney.info
SUMMARY:Limon Rotary Concert in the Park
DESCRIPTION:The Jeffrey Alan Band
URL:https://ourjourney.info/event/limon-rotary-concert-in-the-park-3/
LOCATION:Railroad Park\, 899 1st St\, Limon\, CO\, 80828\, United States
END:VEVENT
BEGIN:VEVENT
DTSTART;TZID=America/Denver:20240614T170000
DTEND;TZID=America/Denver:20240614T210000
DTSTAMP:20260424T051724
CREATED:20240510T193142Z
LAST-MODIFIED:20240510T193142Z
UID:4224-1718384400-1718398800@ourjourney.info
SUMMARY:Friday Night Market
DESCRIPTION:
URL:https://ourjourney.info/event/friday-night-market/
LOCATION:500 E. Kiowa Ave\, Elizabeth\, 500 E. Kiowa Ave\, Elizabeth\, CO\, 80107\, United States
END:VEVENT
BEGIN:VEVENT
DTSTART;TZID=America/Denver:20240609T130000
DTEND;TZID=America/Denver:20240609T130000
DTSTAMP:20260424T051724
CREATED:20240510T192623Z
LAST-MODIFIED:20240510T192623Z
UID:4220-1717938000-1717938000@ourjourney.info
SUMMARY:Red White & Blue PRCA Rodeo & Military appreciation ceremony
DESCRIPTION:Bareback riding\, steer wrestling\, team roping\, mutton bustin\, saddle bronc riding\, tie-down roping\, barrel racing\, breakaway roping & bull riding.
URL:https://ourjourney.info/event/red-white-blue-prca-rodeo-military-appreciation-ceremony/
LOCATION:Casey Jones Park\, 4189 CO-86\, Elizabeth\, CO\, 80107\, United States
END:VEVENT
BEGIN:VEVENT
DTSTART;TZID=America/Denver:20240608T190000
DTEND;TZID=America/Denver:20240608T190000
DTSTAMP:20260424T051724
CREATED:20240510T192459Z
LAST-MODIFIED:20240510T192459Z
UID:4218-1717873200-1717873200@ourjourney.info
SUMMARY:Colorado Ag Night Rodeo
DESCRIPTION:Bareback riding\, steer wrestling\, team roping\, mutton bustin\, saddle bronc riding\, tie-down roping\, barrel racing\, breakaway roping & bull riding.
URL:https://ourjourney.info/event/colorado-ag-night-rodeo/
LOCATION:Casey Jones Park\, 4189 CO-86\, Elizabeth\, CO\, 80107\, United States
END:VEVENT
BEGIN:VEVENT
DTSTART;TZID=America/Denver:20240608T130000
DTEND;TZID=America/Denver:20240608T130000
DTSTAMP:20260424T051724
CREATED:20240510T192331Z
LAST-MODIFIED:20240510T192331Z
UID:4216-1717851600-1717851600@ourjourney.info
SUMMARY:Saturday Afternoon Tough Enough to Wear Pink Rodeo
DESCRIPTION:Bareback riding\, steer wrestling\, team roping\, mutton bustin\, saddle bronc riding\, tie-down roping\, barrel racing\, women’s breakaway roping\, & bull riding.
URL:https://ourjourney.info/event/saturday-afternoon-tough-enough-to-wear-pink-rodeo/
LOCATION:Casey Jones Park\, 4189 CO-86\, Elizabeth\, CO\, 80107\, United States
END:VEVENT
BEGIN:VEVENT
DTSTART;TZID=America/Denver:20240607T190000
DTEND;TZID=America/Denver:20240607T190000
DTSTAMP:20260424T051724
CREATED:20240510T192121Z
LAST-MODIFIED:20240510T192121Z
UID:4214-1717786800-1717786800@ourjourney.info
SUMMARY:Elizabeth Stampede Friday Night Chute Out
DESCRIPTION:PRCA Extreme Bull Riding\, Bareback and/or Saddle Bronc events
URL:https://ourjourney.info/event/elizabeth-stampede-friday-night-chute-out/
LOCATION:Casey Jones Park\, 4189 CO-86\, Elizabeth\, CO\, 80107\, United States
END:VEVENT
BEGIN:VEVENT
DTSTART;TZID=America/Denver:20240606T181500
DTEND;TZID=America/Denver:20240606T181500
DTSTAMP:20260424T051724
CREATED:20240510T191950Z
LAST-MODIFIED:20240510T191950Z
UID:4212-1717697700-1717697700@ourjourney.info
SUMMARY:Elizabeth Stampede Concert
DESCRIPTION:Randy Houser with Casey Donahew & Cody Cozz
URL:https://ourjourney.info/event/elizabeth-stampede-concert-2/
LOCATION:Casey Jones Park\, 4189 CO-86\, Elizabeth\, CO\, 80107\, United States
END:VEVENT
BEGIN:VEVENT
DTSTART;TZID=America/Denver:20240603T180000
DTEND;TZID=America/Denver:20240603T210000
DTSTAMP:20260424T051724
CREATED:20240507T035007Z
LAST-MODIFIED:20240507T035007Z
UID:4207-1717437600-1717448400@ourjourney.info
SUMMARY:Elbert Woman’s Club Bingo Night
DESCRIPTION:
URL:https://ourjourney.info/event/elbert-womans-club-bingo-night-14/
LOCATION:Russell Gates Mercantile\, 24223 Eccles St\, Elbert\, Colorado\, 80106
END:VEVENT
BEGIN:VEVENT
DTSTART;TZID=America/Denver:20240601T183000
DTEND;TZID=America/Denver:20240601T183000
DTSTAMP:20260424T051724
CREATED:20240507T034019Z
LAST-MODIFIED:20240507T034019Z
UID:4199-1717266600-1717266600@ourjourney.info
SUMMARY:Old Town’s Wild West Dinner Theatre
DESCRIPTION:A complete western supper followed by an old-fashioned melodrama with a gunfight. Reservations required. Adults $25\, kids $10
URL:https://ourjourney.info/event/old-towns-wild-west-dinner-theatre-9/
LOCATION:Old Town Museum
END:VEVENT
BEGIN:VEVENT
DTSTART;TZID=America/Denver:20240601T170000
DTEND;TZID=America/Denver:20240601T193000
DTSTAMP:20260424T051724
CREATED:20240507T034325Z
LAST-MODIFIED:20240507T034325Z
UID:4201-1717261200-1717270200@ourjourney.info
SUMMARY:Kiowa Music in the Park
DESCRIPTION:Bring your lawn chairs or blankets\, grab dinner from one of the food trucks & enjoy the music.
URL:https://ourjourney.info/event/kiowa-music-in-the-park/
LOCATION:Nordman Memorial Park\, 201 Navajo Street\, Kiowa\, CO\, 80117\, United States
END:VEVENT
END:VCALENDAR