BEGIN:VCALENDAR
VERSION:2.0
PRODID:-// - ECPv6.15.20//NONSGML v1.0//EN
CALSCALE:GREGORIAN
METHOD:PUBLISH
X-ORIGINAL-URL:https://ourjourney.info
X-WR-CALDESC:Events for 
REFRESH-INTERVAL;VALUE=DURATION:PT1H
X-Robots-Tag:noindex
X-PUBLISHED-TTL:PT1H
BEGIN:VTIMEZONE
TZID:America/Denver
BEGIN:DAYLIGHT
TZOFFSETFROM:-0700
TZOFFSETTO:-0600
TZNAME:MDT
DTSTART:20220313T090000
END:DAYLIGHT
BEGIN:STANDARD
TZOFFSETFROM:-0600
TZOFFSETTO:-0700
TZNAME:MST
DTSTART:20221106T080000
END:STANDARD
BEGIN:DAYLIGHT
TZOFFSETFROM:-0700
TZOFFSETTO:-0600
TZNAME:MDT
DTSTART:20230312T090000
END:DAYLIGHT
BEGIN:STANDARD
TZOFFSETFROM:-0600
TZOFFSETTO:-0700
TZNAME:MST
DTSTART:20231105T080000
END:STANDARD
BEGIN:DAYLIGHT
TZOFFSETFROM:-0700
TZOFFSETTO:-0600
TZNAME:MDT
DTSTART:20240310T090000
END:DAYLIGHT
BEGIN:STANDARD
TZOFFSETFROM:-0600
TZOFFSETTO:-0700
TZNAME:MST
DTSTART:20241103T080000
END:STANDARD
END:VTIMEZONE
BEGIN:VEVENT
DTSTART;TZID=America/Denver:20231202T100000
DTEND;TZID=America/Denver:20231202T170000
DTSTAMP:20260424T125420
CREATED:20230614T231413Z
LAST-MODIFIED:20230614T231413Z
UID:4030-1701511200-1701536400@ourjourney.info
SUMMARY:A Cowgirl’s Heart Christmas Open House
DESCRIPTION:
URL:https://ourjourney.info/event/a-cowgirls-heart-christmas-open-house/
LOCATION:A Cowgirl’s Heart Boutique & Gallery\, 24295 N Elbert Rd\, Elbert\, CO\, 80106\, United States
END:VEVENT
BEGIN:VEVENT
DTSTART;TZID=America/Denver:20231202T090000
DTEND;TZID=America/Denver:20231202T150000
DTSTAMP:20260424T125420
CREATED:20230614T231538Z
LAST-MODIFIED:20230614T231538Z
UID:4034-1701507600-1701529200@ourjourney.info
SUMMARY:Craft Fair
DESCRIPTION:Vendors selling Hand-Made items only. Burlington Community & Education Center\, Burlington
URL:https://ourjourney.info/event/craft-fair-3/
LOCATION:Burlington Community & Education Center\, 340 S 14th Street\, Burlington\, CO\, 80807\, United States
END:VEVENT
BEGIN:VEVENT
DTSTART;TZID=America/Denver:20231202T090000
DTEND;TZID=America/Denver:20231202T140000
DTSTAMP:20260424T125420
CREATED:20230614T231624Z
LAST-MODIFIED:20230614T231624Z
UID:4037-1701507600-1701525600@ourjourney.info
SUMMARY:Elbert County Marketplace
DESCRIPTION:
URL:https://ourjourney.info/event/elbert-county-marketplace-18/
LOCATION:Casey Jones Park\, 4189 CO-86\, Elizabeth\, CO\, 80107\, United States
END:VEVENT
BEGIN:VEVENT
DTSTART;TZID=America/Denver:20231201T170000
DTEND;TZID=America/Denver:20231202T210000
DTSTAMP:20260424T125420
CREATED:20230614T230945Z
LAST-MODIFIED:20230614T230945Z
UID:4024-1701450000-1701550800@ourjourney.info
SUMMARY:Winter Wonderlights
DESCRIPTION:
URL:https://ourjourney.info/event/winter-wonderlights/
LOCATION:Old Town Museum
END:VEVENT
BEGIN:VEVENT
DTSTART;TZID=America/Denver:20231125T090000
DTEND;TZID=America/Denver:20231125T140000
DTSTAMP:20260424T125420
CREATED:20230614T230841Z
LAST-MODIFIED:20230614T230841Z
UID:4021-1700902800-1700920800@ourjourney.info
SUMMARY:Elbert County Marketplace
DESCRIPTION:
URL:https://ourjourney.info/event/elbert-county-marketplace-17/
LOCATION:Casey Jones Park\, 4189 CO-86\, Elizabeth\, CO\, 80107\, United States
END:VEVENT
BEGIN:VEVENT
DTSTART;TZID=America/Denver:20231124T180000
DTEND;TZID=America/Denver:20231124T200000
DTSTAMP:20260424T125420
CREATED:20230614T230759Z
LAST-MODIFIED:20230614T230759Z
UID:4018-1700848800-1700856000@ourjourney.info
SUMMARY:Kick off to Christmas
DESCRIPTION:Tree lighting\, Pictures with Santa Cookies &amp; games for kids. North end of Main St\, Burlington
URL:https://ourjourney.info/event/kick-off-to-christmas/
LOCATION:CO
END:VEVENT
BEGIN:VEVENT
DTSTART;TZID=America/Denver:20231119T140000
DTEND;TZID=America/Denver:20231119T160000
DTSTAMP:20260424T125420
CREATED:20230614T230651Z
LAST-MODIFIED:20230614T230651Z
UID:4015-1700402400-1700409600@ourjourney.info
SUMMARY:Free Roller Skating
DESCRIPTION:
URL:https://ourjourney.info/event/free-roller-skating-3/
LOCATION:Bethel Community Center
END:VEVENT
BEGIN:VEVENT
DTSTART;TZID=America/Denver:20231118T090000
DTEND;TZID=America/Denver:20231118T150000
DTSTAMP:20260424T125420
CREATED:20230614T225953Z
LAST-MODIFIED:20230614T225953Z
UID:4008-1700298000-1700319600@ourjourney.info
SUMMARY:Elizabeth United Methodist Church Craft Fair
DESCRIPTION:
URL:https://ourjourney.info/event/elizabeth-united-methodist-church-craft-fair/
LOCATION:Elizabeth United Methodist Church\, 225 W Kiowa Ave\, Elizabeth\, CO\, 80107\, United States
END:VEVENT
BEGIN:VEVENT
DTSTART;TZID=America/Denver:20231118T090000
DTEND;TZID=America/Denver:20231118T150000
DTSTAMP:20260424T125420
CREATED:20230614T225638Z
LAST-MODIFIED:20230614T225638Z
UID:4002-1700298000-1700319600@ourjourney.info
SUMMARY:Elizabeth Middle School Annual Craft Show
DESCRIPTION:Middle School\, Elizabeth
URL:https://ourjourney.info/event/elizabeth-middle-school-annual-craft-show/
LOCATION:CO
END:VEVENT
BEGIN:VEVENT
DTSTART;TZID=America/Denver:20231118T090000
DTEND;TZID=America/Denver:20231118T140000
DTSTAMP:20260424T125420
CREATED:20230614T225740Z
LAST-MODIFIED:20230614T225740Z
UID:4005-1700298000-1700316000@ourjourney.info
SUMMARY:Elbert County Marketplace
DESCRIPTION:
URL:https://ourjourney.info/event/elbert-county-marketplace-16/
LOCATION:Casey Jones Park\, 4189 CO-86\, Elizabeth\, CO\, 80107\, United States
END:VEVENT
BEGIN:VEVENT
DTSTART;VALUE=DATE:20231118
DTEND;VALUE=DATE:20231119
DTSTAMP:20260424T125420
CREATED:20230614T230058Z
LAST-MODIFIED:20230614T230058Z
UID:4012-1700265600-1700351999@ourjourney.info
SUMMARY:Elbert Tree Lighting by Elbert Co. Fire Dept. & Town
DESCRIPTION:
URL:https://ourjourney.info/event/elbert-tree-lighting-by-elbert-co-fire-dept-town/
LOCATION:Russell Gates Mercantile\, 24223 Eccles St\, Elbert\, Colorado\, 80106
END:VEVENT
BEGIN:VEVENT
DTSTART;TZID=America/Denver:20231111T090000
DTEND;TZID=America/Denver:20231111T160000
DTSTAMP:20260424T125420
CREATED:20230614T225536Z
LAST-MODIFIED:20230614T225536Z
UID:3999-1699693200-1699718400@ourjourney.info
SUMMARY:Elbert Woman’s Club Annual Christmas Craft Bazaar
DESCRIPTION:Russell Gates Mercantile\, & Elbert School\, Elbert
URL:https://ourjourney.info/event/elbert-womans-club-annual-christmas-craft-bazaar/
LOCATION:Russell Gates Mercantile\, 24223 Eccles St\, Elbert\, Colorado\, 80106
END:VEVENT
BEGIN:VEVENT
DTSTART;TZID=America/Denver:20231106T180000
DTEND;TZID=America/Denver:20231106T210000
DTSTAMP:20260424T125420
CREATED:20230614T225417Z
LAST-MODIFIED:20230614T225417Z
UID:3996-1699293600-1699304400@ourjourney.info
SUMMARY:Elbert Woman’s Club Bingo Night
DESCRIPTION:
URL:https://ourjourney.info/event/elbert-womans-club-bingo-night-12/
LOCATION:Russell Gates Mercantile\, 24223 Eccles St\, Elbert\, Colorado\, 80106
END:VEVENT
BEGIN:VEVENT
DTSTART;TZID=America/Denver:20231104T090000
DTEND;TZID=America/Denver:20231104T140000
DTSTAMP:20260424T125420
CREATED:20230614T225311Z
LAST-MODIFIED:20230614T225311Z
UID:3993-1699088400-1699106400@ourjourney.info
SUMMARY:Elbert County Marketplace
DESCRIPTION:
URL:https://ourjourney.info/event/elbert-county-marketplace-15/
LOCATION:Casey Jones Park\, 4189 CO-86\, Elizabeth\, CO\, 80107\, United States
END:VEVENT
BEGIN:VEVENT
DTSTART;TZID=America/Denver:20231104T090000
DTEND;TZID=America/Denver:20231104T140000
DTSTAMP:20260424T125420
CREATED:20230614T225209Z
LAST-MODIFIED:20230614T225209Z
UID:3989-1699088400-1699106400@ourjourney.info
SUMMARY:Holiday Gift Gala
DESCRIPTION:Vendors selling commercial & hand-made items. On-site catering. Community and Education Center\, Burlington
URL:https://ourjourney.info/event/holiday-gift-gala-3/
LOCATION:Burlington Community & Education Center\, 340 S 14th Street\, Burlington\, CO\, 80807\, United States
END:VEVENT
BEGIN:VEVENT
DTSTART;TZID=America/Denver:20231031T173000
DTEND;TZID=America/Denver:20231031T190000
DTSTAMP:20260424T125420
CREATED:20230614T224814Z
LAST-MODIFIED:20230614T224814Z
UID:3980-1698773400-1698778800@ourjourney.info
SUMMARY:Trunk or Treat
DESCRIPTION:14 th St\, Burlington
URL:https://ourjourney.info/event/trunk-or-treat-4/
LOCATION:CO
END:VEVENT
BEGIN:VEVENT
DTSTART;VALUE=DATE:20231031
DTEND;VALUE=DATE:20231101
DTSTAMP:20260424T125420
CREATED:20230614T225004Z
LAST-MODIFIED:20230614T225004Z
UID:3986-1698710400-1698796799@ourjourney.info
SUMMARY:Elbert Haunted Hallway
DESCRIPTION:Elbert Firehouse
URL:https://ourjourney.info/event/elbert-haunted-hallway/
LOCATION:CO
END:VEVENT
BEGIN:VEVENT
DTSTART;VALUE=DATE:20231031
DTEND;VALUE=DATE:20231101
DTSTAMP:20260424T125420
CREATED:20230614T224927Z
LAST-MODIFIED:20230614T224927Z
UID:3983-1698710400-1698796799@ourjourney.info
SUMMARY:Elbert Haunted House
DESCRIPTION:
URL:https://ourjourney.info/event/elbert-haunted-house/
LOCATION:Russell Gates Mercantile\, 24223 Eccles St\, Elbert\, Colorado\, 80106
END:VEVENT
BEGIN:VEVENT
DTSTART;TZID=America/Denver:20231028T190000
DTEND;TZID=America/Denver:20231028T210000
DTSTAMP:20260424T125420
CREATED:20230614T222457Z
LAST-MODIFIED:20230614T222457Z
UID:3966-1698519600-1698526800@ourjourney.info
SUMMARY:Youth Council’s Scary Haunted House
DESCRIPTION:7-9PM. $5 admission. Old Town Barn\, Burlington
URL:https://ourjourney.info/event/youth-councils-scary-haunted-house/
LOCATION:Old Town Museum
END:VEVENT
BEGIN:VEVENT
DTSTART;TZID=America/Denver:20231028T173000
DTEND;TZID=America/Denver:20231028T183000
DTSTAMP:20260424T125420
CREATED:20230614T222739Z
LAST-MODIFIED:20230614T222739Z
UID:3972-1698514200-1698517800@ourjourney.info
SUMMARY:Trunk or Treat
DESCRIPTION:Simla Library\, Simla
URL:https://ourjourney.info/event/trunk-or-treat-3/
LOCATION:Simla Library\, 504 Washington Ave\, Simla\, CO\, 80835\, United States
END:VEVENT
BEGIN:VEVENT
DTSTART;TZID=America/Denver:20231028T150000
DTEND;TZID=America/Denver:20231028T170000
DTSTAMP:20260424T125420
CREATED:20230614T222356Z
LAST-MODIFIED:20230614T222356Z
UID:3963-1698505200-1698512400@ourjourney.info
SUMMARY:Youth Council’s Family-Friendly Haunted House
DESCRIPTION:Old Town Barn 3-5PM\, $5 admission\, Burlington
URL:https://ourjourney.info/event/youth-councils-family-friendly-haunted-house/
LOCATION:Old Town Museum
END:VEVENT
BEGIN:VEVENT
DTSTART;TZID=America/Denver:20231028T150000
DTEND;TZID=America/Denver:20231028T170000
DTSTAMP:20260424T125420
CREATED:20230614T222254Z
LAST-MODIFIED:20230614T222254Z
UID:3960-1698505200-1698512400@ourjourney.info
SUMMARY:Old Town Ghost Town
DESCRIPTION:
URL:https://ourjourney.info/event/old-town-ghost-town/
LOCATION:Old Town Museum
END:VEVENT
BEGIN:VEVENT
DTSTART;TZID=America/Denver:20231028T110000
DTEND;TZID=America/Denver:20231028T150000
DTSTAMP:20260424T125420
CREATED:20230614T222557Z
LAST-MODIFIED:20230614T222557Z
UID:3969-1698490800-1698505200@ourjourney.info
SUMMARY:Elizabeth Chamber’s Harvest Festival
DESCRIPTION:Main St\, Elizabeth
URL:https://ourjourney.info/event/elizabeth-chambers-harvest-festival/
LOCATION:CO
END:VEVENT
BEGIN:VEVENT
DTSTART;TZID=America/Denver:20231027T180000
DTEND;TZID=America/Denver:20231027T200000
DTSTAMP:20260424T125420
CREATED:20230614T222205Z
LAST-MODIFIED:20230614T222205Z
UID:3957-1698429600-1698436800@ourjourney.info
SUMMARY:Halloween Haven
DESCRIPTION:
URL:https://ourjourney.info/event/halloween-haven/
LOCATION:Casey Jones Park\, 4189 CO-86\, Elizabeth\, CO\, 80107\, United States
END:VEVENT
BEGIN:VEVENT
DTSTART;TZID=America/Denver:20231022T080000
DTEND;TZID=America/Denver:20231022T120000
DTSTAMP:20260424T125420
CREATED:20230614T222011Z
LAST-MODIFIED:20230614T222011Z
UID:3954-1697961600-1697976000@ourjourney.info
SUMMARY:Elbert Woman’s Club Breakfast
DESCRIPTION:
URL:https://ourjourney.info/event/elbert-womans-club-breakfast-13/
LOCATION:Russell Gates Mercantile\, 24223 Eccles St\, Elbert\, Colorado\, 80106
END:VEVENT
BEGIN:VEVENT
DTSTART;TZID=America/Denver:20231021T090000
DTEND;TZID=America/Denver:20231021T140000
DTSTAMP:20260424T125420
CREATED:20230614T221909Z
LAST-MODIFIED:20230614T221909Z
UID:3951-1697878800-1697896800@ourjourney.info
SUMMARY:Elbert County Marketplace
DESCRIPTION:
URL:https://ourjourney.info/event/elbert-county-marketplace-14/
LOCATION:Casey Jones Park\, 4189 CO-86\, Elizabeth\, CO\, 80107\, United States
END:VEVENT
BEGIN:VEVENT
DTSTART;TZID=America/Denver:20231014T100000
DTEND;TZID=America/Denver:20231014T160000
DTSTAMP:20260424T125420
CREATED:20230614T221824Z
LAST-MODIFIED:20230614T221824Z
UID:3948-1697277600-1697299200@ourjourney.info
SUMMARY:Hugo Fall Festival
DESCRIPTION:Hugo Railroad Park\, 4 th St\, Hugo
URL:https://ourjourney.info/event/hugo-fall-festival/
LOCATION:CO
END:VEVENT
BEGIN:VEVENT
DTSTART;TZID=America/Denver:20231007T150000
DTEND;TZID=America/Denver:20231007T190000
DTSTAMP:20260424T125420
CREATED:20230614T221359Z
LAST-MODIFIED:20230614T221359Z
UID:3939-1696690800-1696705200@ourjourney.info
SUMMARY:Wine in the Pines
DESCRIPTION:
URL:https://ourjourney.info/event/wine-in-the-pines-2/
LOCATION:500 E. Kiowa Ave\, Elizabeth\, 500 E. Kiowa Ave\, Elizabeth\, CO\, 80107\, United States
END:VEVENT
BEGIN:VEVENT
DTSTART;TZID=America/Denver:20231007T120000
DTEND;TZID=America/Denver:20231007T170000
DTSTAMP:20260424T125420
CREATED:20230614T221453Z
LAST-MODIFIED:20230614T221453Z
UID:3942-1696680000-1696698000@ourjourney.info
SUMMARY:Town of Kiowa Harvest Festival
DESCRIPTION:Forty Mile Feed\, Kiowa
URL:https://ourjourney.info/event/town-of-kiowa-harvest-festival/
LOCATION:CO
END:VEVENT
BEGIN:VEVENT
DTSTART;TZID=America/Denver:20231007T090000
DTEND;TZID=America/Denver:20231007T140000
DTSTAMP:20260424T125420
CREATED:20230614T221559Z
LAST-MODIFIED:20230614T221559Z
UID:3945-1696669200-1696687200@ourjourney.info
SUMMARY:Elbert County Marketplace
DESCRIPTION:
URL:https://ourjourney.info/event/elbert-county-marketplace-13/
LOCATION:Casey Jones Park\, 4189 CO-86\, Elizabeth\, CO\, 80107\, United States
END:VEVENT
END:VCALENDAR