BEGIN:VCALENDAR
VERSION:2.0
PRODID:-// - ECPv6.15.20//NONSGML v1.0//EN
CALSCALE:GREGORIAN
METHOD:PUBLISH
X-ORIGINAL-URL:https://ourjourney.info
X-WR-CALDESC:Events for 
REFRESH-INTERVAL;VALUE=DURATION:PT1H
X-Robots-Tag:noindex
X-PUBLISHED-TTL:PT1H
BEGIN:VTIMEZONE
TZID:America/Denver
BEGIN:DAYLIGHT
TZOFFSETFROM:-0700
TZOFFSETTO:-0600
TZNAME:MDT
DTSTART:20240310T090000
END:DAYLIGHT
BEGIN:STANDARD
TZOFFSETFROM:-0600
TZOFFSETTO:-0700
TZNAME:MST
DTSTART:20241103T080000
END:STANDARD
BEGIN:DAYLIGHT
TZOFFSETFROM:-0700
TZOFFSETTO:-0600
TZNAME:MDT
DTSTART:20250309T090000
END:DAYLIGHT
BEGIN:STANDARD
TZOFFSETFROM:-0600
TZOFFSETTO:-0700
TZNAME:MST
DTSTART:20251102T080000
END:STANDARD
BEGIN:DAYLIGHT
TZOFFSETFROM:-0700
TZOFFSETTO:-0600
TZNAME:MDT
DTSTART:20260308T090000
END:DAYLIGHT
BEGIN:STANDARD
TZOFFSETFROM:-0600
TZOFFSETTO:-0700
TZNAME:MST
DTSTART:20261101T080000
END:STANDARD
END:VTIMEZONE
BEGIN:VEVENT
DTSTART;TZID=America/Denver:20251018T100000
DTEND;TZID=America/Denver:20251018T170000
DTSTAMP:20260423T115214
CREATED:20250513T210131Z
LAST-MODIFIED:20250513T210131Z
UID:4537-1760781600-1760806800@ourjourney.info
SUMMARY:Carriage Shoppes Holiday Open House
DESCRIPTION:392 Main St\, Elizabeth
URL:https://ourjourney.info/event/carriage-shoppes-holiday-open-house/
END:VEVENT
BEGIN:VEVENT
DTSTART;TZID=America/Denver:20251011T110000
DTEND;TZID=America/Denver:20251011T160000
DTSTAMP:20260423T115214
CREATED:20250513T210131Z
LAST-MODIFIED:20250513T210131Z
UID:4536-1760180400-1760198400@ourjourney.info
SUMMARY:Kiowa Harvest Fest
DESCRIPTION:Family fun in the pumpkin patch. Nordman Memorial Park\, Kiowa
URL:https://ourjourney.info/event/kiowa-harvest-fest/
END:VEVENT
BEGIN:VEVENT
DTSTART;TZID=America/Denver:20250901T090000
DTEND;TZID=America/Denver:20250901T190000
DTSTAMP:20260423T115214
CREATED:20250513T210119Z
LAST-MODIFIED:20250513T210119Z
UID:4535-1756717200-1756753200@ourjourney.info
SUMMARY:Simla Days
DESCRIPTION:Simla Town Park\, 312 Pueblo Ave\, Simla
URL:https://ourjourney.info/event/simla-days-2/
END:VEVENT
BEGIN:VEVENT
DTSTART;TZID=America/Denver:20250831T180000
DTEND;TZID=America/Denver:20250831T220000
DTSTAMP:20260423T115214
CREATED:20250513T210118Z
LAST-MODIFIED:20250513T210118Z
UID:4534-1756663200-1756677600@ourjourney.info
SUMMARY:Simla Days
DESCRIPTION:Simla Town Park\, 312 Pueblo Ave\, Simla
URL:https://ourjourney.info/event/simla-days/
END:VEVENT
BEGIN:VEVENT
DTSTART;TZID=America/Denver:20250830T100000
DTEND;TZID=America/Denver:20250830T170000
DTSTAMP:20260423T115214
CREATED:20250513T210117Z
LAST-MODIFIED:20250513T210117Z
UID:4533-1756548000-1756573200@ourjourney.info
SUMMARY:Carriage Shoppes Fall Open House
DESCRIPTION:392 Main St\, Elizabeth
URL:https://ourjourney.info/event/carriage-shoppes-fall-open-house/
END:VEVENT
BEGIN:VEVENT
DTSTART;TZID=America/Denver:20250823T130000
DTEND;TZID=America/Denver:20250824T090000
DTSTAMP:20260423T115214
CREATED:20250513T210116Z
LAST-MODIFIED:20250513T210116Z
UID:4532-1755954000-1756026000@ourjourney.info
SUMMARY:Little Britches Rodeo
DESCRIPTION:Kit Carson County Fairgrounds\, Burlington
URL:https://ourjourney.info/event/little-britches-rodeo/
END:VEVENT
BEGIN:VEVENT
DTSTART;TZID=America/Denver:20250823T090000
DTEND;TZID=America/Denver:20250823T160000
DTSTAMP:20260423T115214
CREATED:20250513T210116Z
LAST-MODIFIED:20250513T210116Z
UID:4531-1755939600-1755964800@ourjourney.info
SUMMARY:Annual Hub City Classic Car
DESCRIPTION:9AM-4PM\,Downtown Limon
URL:https://ourjourney.info/event/annual-hub-city-classic-car/
LOCATION:Downtown Limon\, Limon\, CO\, 80828\, United States
END:VEVENT
BEGIN:VEVENT
DTSTART;TZID=America/Denver:20250816T140000
DTEND;TZID=America/Denver:20250816T220000
DTSTAMP:20260423T115214
CREATED:20250513T210103Z
LAST-MODIFIED:20250513T210103Z
UID:4530-1755352800-1755381600@ourjourney.info
SUMMARY:Old Town Pioneer Days
DESCRIPTION:Heritage event with wagons\, blacksmith\, food & music. Old Town\, Burlington
URL:https://ourjourney.info/event/old-town-pioneer-days-3/
END:VEVENT
BEGIN:VEVENT
DTSTART;TZID=America/Denver:20250815T170000
DTEND;TZID=America/Denver:20250815T210000
DTSTAMP:20260423T115214
CREATED:20250513T210102Z
LAST-MODIFIED:20250513T210102Z
UID:4529-1755277200-1755291600@ourjourney.info
SUMMARY:Friday Night Market & Concert
DESCRIPTION:Running Creek Park\, 500 Kiowa Ave\, Elizabeth
URL:https://ourjourney.info/event/friday-night-market-concert-10/
END:VEVENT
BEGIN:VEVENT
DTSTART;TZID=America/Denver:20250808T170000
DTEND;TZID=America/Denver:20250808T210000
DTSTAMP:20260423T115214
CREATED:20250513T210102Z
LAST-MODIFIED:20250513T210102Z
UID:4528-1754672400-1754686800@ourjourney.info
SUMMARY:Friday Night Market & Concert
DESCRIPTION:Running Creek Park\, 500 Kiowa Ave\, Elizabeth
URL:https://ourjourney.info/event/friday-night-market-concert-9/
END:VEVENT
BEGIN:VEVENT
DTSTART;VALUE=DATE:20250802
DTEND;VALUE=DATE:20250803
DTSTAMP:20260423T115214
CREATED:20250513T210101Z
LAST-MODIFIED:20250513T210101Z
UID:4527-1754092800-1754179199@ourjourney.info
SUMMARY:Flagler Day
DESCRIPTION:Main Street activities\, Flagler
URL:https://ourjourney.info/event/flagler-day/
END:VEVENT
BEGIN:VEVENT
DTSTART;TZID=America/Denver:20250801T173000
DTEND;TZID=America/Denver:20250801T193000
DTSTAMP:20260423T115214
CREATED:20250513T210101Z
LAST-MODIFIED:20250513T210101Z
UID:4526-1754069400-1754076600@ourjourney.info
SUMMARY:Kiowa Annual Colorado Day-Ice Cream Social
DESCRIPTION:Nordman Memorial Park\, Kiowa
URL:https://ourjourney.info/event/kiowa-annual-colorado-day-ice-cream-social/
END:VEVENT
BEGIN:VEVENT
DTSTART;TZID=America/Denver:20250801T170000
DTEND;TZID=America/Denver:20250801T210000
DTSTAMP:20260423T115214
CREATED:20250513T210046Z
LAST-MODIFIED:20250513T210046Z
UID:4525-1754067600-1754082000@ourjourney.info
SUMMARY:Friday Night Market & Concert
DESCRIPTION:Running Creek Park\, 500 Kiowa Ave\, Elizabeth
URL:https://ourjourney.info/event/friday-night-market-concert-8/
END:VEVENT
BEGIN:VEVENT
DTSTART;VALUE=DATE:20250730
DTEND;VALUE=DATE:20250810
DTSTAMP:20260423T115214
CREATED:20250513T210046Z
LAST-MODIFIED:20250513T210046Z
UID:4524-1753833600-1754783999@ourjourney.info
SUMMARY:Lincoln County Fair & Rodeo
DESCRIPTION:LC Fairgrounds\, Hugo
URL:https://ourjourney.info/event/lincoln-county-fair-rodeo-2/
END:VEVENT
BEGIN:VEVENT
DTSTART;VALUE=DATE:20250726
DTEND;VALUE=DATE:20250804
DTSTAMP:20260423T115214
CREATED:20250513T210046Z
LAST-MODIFIED:20250513T210046Z
UID:4523-1753488000-1754265599@ourjourney.info
SUMMARY:Elbert County Fair & Rodeo
DESCRIPTION:Family fun at 95 Ute Ave\, Kiowa
URL:https://ourjourney.info/event/elbert-county-fair-rodeo/
END:VEVENT
BEGIN:VEVENT
DTSTART;TZID=America/Denver:20250725T170000
DTEND;TZID=America/Denver:20250725T210000
DTSTAMP:20260423T115214
CREATED:20250513T210046Z
LAST-MODIFIED:20250513T210046Z
UID:4522-1753462800-1753477200@ourjourney.info
SUMMARY:Friday Night Market & Concert
DESCRIPTION:Running Creek Park\, 500 Kiowa Ave\, Elizabeth
URL:https://ourjourney.info/event/friday-night-market-concert-7/
END:VEVENT
BEGIN:VEVENT
DTSTART;TZID=America/Denver:20250719T160000
DTEND;TZID=America/Denver:20250719T183000
DTSTAMP:20260423T115214
CREATED:20250513T210031Z
LAST-MODIFIED:20250513T210031Z
UID:4519-1752940800-1752949800@ourjourney.info
SUMMARY:Kiowa Music in the Park featuring Melinda Hagan
DESCRIPTION:Bring lawn chairs or blankets. Nordman Memorial Park\, Kiowa
URL:https://ourjourney.info/event/kiowa-music-in-the-park-featuring-melinda-hagan/
END:VEVENT
BEGIN:VEVENT
DTSTART;TZID=America/Denver:20250719T090000
DTEND;TZID=America/Denver:20250720T160000
DTSTAMP:20260423T115214
CREATED:20250513T210032Z
LAST-MODIFIED:20250513T210032Z
UID:4520-1752915600-1753027200@ourjourney.info
SUMMARY:Elizabeth Celtic Festival
DESCRIPTION:Celtic music\, dance\, food & athletics. Casey Jones Park\, Elizabeth
URL:https://ourjourney.info/event/elizabeth-celtic-festival-7/
END:VEVENT
BEGIN:VEVENT
DTSTART;VALUE=DATE:20250719
DTEND;VALUE=DATE:20250727
DTSTAMP:20260423T115214
CREATED:20250513T210045Z
LAST-MODIFIED:20250513T210045Z
UID:4521-1752883200-1753574399@ourjourney.info
SUMMARY:Kit Carson County Fair & PRCA Rodeos
DESCRIPTION:Rodeos Thurs\, Fri & Sat at 815 15th St\, Burlington
URL:https://ourjourney.info/event/kit-carson-county-fair-prca-rodeos-2/
END:VEVENT
BEGIN:VEVENT
DTSTART;TZID=America/Denver:20250718T170000
DTEND;TZID=America/Denver:20250718T210000
DTSTAMP:20260423T115214
CREATED:20250513T210031Z
LAST-MODIFIED:20250513T210031Z
UID:4518-1752858000-1752872400@ourjourney.info
SUMMARY:Friday Night Market & Concert
DESCRIPTION:Running Creek Park\, 500 Kiowa Ave\, Elizabeth
URL:https://ourjourney.info/event/friday-night-market-concert-6/
END:VEVENT
BEGIN:VEVENT
DTSTART;TZID=America/Denver:20250712T160000
DTEND;TZID=America/Denver:20250712T183000
DTSTAMP:20260423T115214
CREATED:20250513T210031Z
LAST-MODIFIED:20250513T210031Z
UID:4517-1752336000-1752345000@ourjourney.info
SUMMARY:Kiowa Music in the Park featuring Randi Kiera
DESCRIPTION:Bring lawn chairs or blankets. Nordman Memorial Park\, 201 Navajo St\, Kiowa
URL:https://ourjourney.info/event/kiowa-music-in-the-park-featuring-randi-kiera/
END:VEVENT
BEGIN:VEVENT
DTSTART;TZID=America/Denver:20250711T170000
DTEND;TZID=America/Denver:20250711T210000
DTSTAMP:20260423T115214
CREATED:20250513T210016Z
LAST-MODIFIED:20250513T210016Z
UID:4515-1752253200-1752267600@ourjourney.info
SUMMARY:Friday Night Market & Concert
DESCRIPTION:Running Creek Park\, 500 Kiowa Ave\, Elizabeth
URL:https://ourjourney.info/event/friday-night-market-concert-5/
END:VEVENT
BEGIN:VEVENT
DTSTART;VALUE=DATE:20250711
DTEND;VALUE=DATE:20250721
DTSTAMP:20260423T115214
CREATED:20250513T210030Z
LAST-MODIFIED:20250513T210030Z
UID:4516-1752192000-1753055999@ourjourney.info
SUMMARY:Cheyenne County Tumbleweed Fair & Rodeo
DESCRIPTION:Various events at 530 W. 6th South & 425 S. 7th West\, Cheyenne Wells
URL:https://ourjourney.info/event/cheyenne-county-tumbleweed-fair-rodeo-3/
END:VEVENT
BEGIN:VEVENT
DTSTART;TZID=America/Denver:20250704T170000
DTEND;TZID=America/Denver:20250704T210000
DTSTAMP:20260423T115214
CREATED:20250513T210015Z
LAST-MODIFIED:20250513T210015Z
UID:4511-1751648400-1751662800@ourjourney.info
SUMMARY:Friday Night Market & Concert
DESCRIPTION:Running Creek Park\, 500 Kiowa Ave\, Elizabeth
URL:https://ourjourney.info/event/friday-night-market-concert-4/
END:VEVENT
BEGIN:VEVENT
DTSTART;TZID=America/Denver:20250704T110000
DTEND;TZID=America/Denver:20250704T150000
DTSTAMP:20260423T115214
CREATED:20250513T210016Z
LAST-MODIFIED:20250513T210016Z
UID:4513-1751626800-1751641200@ourjourney.info
SUMMARY:Hedlund House Museum offers Tom Sawyer
DESCRIPTION:11AM-3PM\,Watermelon Roll\, Fishing Derby & Pie Auction. Hedlund House Museum\, Hugo
URL:https://ourjourney.info/event/hedlund-house-museum-offers-tom-sawyer/
END:VEVENT
BEGIN:VEVENT
DTSTART;TZID=America/Denver:20250704T100000
DTEND;TZID=America/Denver:20250704T150000
DTSTAMP:20260423T115214
CREATED:20250513T210016Z
LAST-MODIFIED:20250513T210016Z
UID:4512-1751623200-1751641200@ourjourney.info
SUMMARY:Elbert County Historical Society Annual Pioneer 4th Celebration
DESCRIPTION:Museum open house\, live music\, pie baking contest\, games & more. Elbert County Historical Society & Museum\, Kiowa
URL:https://ourjourney.info/event/elbert-county-historical-society-annual-pioneer-4th-celebration/
END:VEVENT
BEGIN:VEVENT
DTSTART;TZID=America/Denver:20250704T070000
DTEND;TZID=America/Denver:20250704T213000
DTSTAMP:20260423T115214
CREATED:20250513T210016Z
LAST-MODIFIED:20250513T210016Z
UID:4514-1751612400-1751664600@ourjourney.info
SUMMARY:Independence Day Celebration
DESCRIPTION:Limon Public School\, Limon
URL:https://ourjourney.info/event/independence-day-celebration/
LOCATION:Limon Public School\, 874 F Ave.\, Limon\, CO\, 80828\, United States
END:VEVENT
BEGIN:VEVENT
DTSTART;TZID=America/Denver:20250628T083000
DTEND;TZID=America/Denver:20250628T173000
DTSTAMP:20260423T115214
CREATED:20250513T210001Z
LAST-MODIFIED:20250513T210001Z
UID:4507-1751099400-1751131800@ourjourney.info
SUMMARY:Colorado Championship Ranch Rodeo & Chuck Wagon Cookoff
DESCRIPTION:Multiple events from 8:30AM to 5:30PM. 33747 County Rd 2W\, Hugo
URL:https://ourjourney.info/event/colorado-championship-ranch-rodeo-chuck-wagon-cookoff-3/
END:VEVENT
BEGIN:VEVENT
DTSTART;TZID=America/Denver:20250628T073000
DTEND;TZID=America/Denver:20250628T193000
DTSTAMP:20260423T115214
CREATED:20250513T210002Z
LAST-MODIFIED:20250513T210002Z
UID:4510-1751095800-1751139000@ourjourney.info
SUMMARY:Bailey Saddleland Museum's Annual El Paso County Wagon Train
DESCRIPTION:Ride 10AM-3PM. 1 mile north of town\, Simla
URL:https://ourjourney.info/event/bailey-saddleland-museums-annual-el-paso-county-wagon-train/
END:VEVENT
BEGIN:VEVENT
DTSTART;TZID=America/Denver:20250627T190000
DTEND;TZID=America/Denver:20250628T230000
DTSTAMP:20260423T115214
CREATED:20250513T210002Z
LAST-MODIFIED:20250513T210002Z
UID:4509-1751050800-1751151600@ourjourney.info
SUMMARY:Cowboy Up in Kiowa CPRA Rodeo Hero's Night
DESCRIPTION:Rodeo and Concert. Elbert County Fairgrounds\, 95 Ute Ave\, Kiowa
URL:https://ourjourney.info/event/cowboy-up-in-kiowa-cpra-rodeo-heros-night/
END:VEVENT
END:VCALENDAR