BEGIN:VCALENDAR
VERSION:2.0
PRODID:-// - ECPv6.15.20//NONSGML v1.0//EN
CALSCALE:GREGORIAN
METHOD:PUBLISH
X-ORIGINAL-URL:https://ourjourney.info
X-WR-CALDESC:Events for 
REFRESH-INTERVAL;VALUE=DURATION:PT1H
X-Robots-Tag:noindex
X-PUBLISHED-TTL:PT1H
BEGIN:VTIMEZONE
TZID:America/Denver
BEGIN:DAYLIGHT
TZOFFSETFROM:-0700
TZOFFSETTO:-0600
TZNAME:MDT
DTSTART:20220313T090000
END:DAYLIGHT
BEGIN:STANDARD
TZOFFSETFROM:-0600
TZOFFSETTO:-0700
TZNAME:MST
DTSTART:20221106T080000
END:STANDARD
BEGIN:DAYLIGHT
TZOFFSETFROM:-0700
TZOFFSETTO:-0600
TZNAME:MDT
DTSTART:20230312T090000
END:DAYLIGHT
BEGIN:STANDARD
TZOFFSETFROM:-0600
TZOFFSETTO:-0700
TZNAME:MST
DTSTART:20231105T080000
END:STANDARD
BEGIN:DAYLIGHT
TZOFFSETFROM:-0700
TZOFFSETTO:-0600
TZNAME:MDT
DTSTART:20240310T090000
END:DAYLIGHT
BEGIN:STANDARD
TZOFFSETFROM:-0600
TZOFFSETTO:-0700
TZNAME:MST
DTSTART:20241103T080000
END:STANDARD
END:VTIMEZONE
BEGIN:VEVENT
DTSTART;TZID=America/Denver:20231002T180000
DTEND;TZID=America/Denver:20231002T210000
DTSTAMP:20260424T175428
CREATED:20230614T221254Z
LAST-MODIFIED:20230614T221254Z
UID:3936-1696269600-1696280400@ourjourney.info
SUMMARY:Elbert Woman’s Club Bingo Night
DESCRIPTION:
URL:https://ourjourney.info/event/elbert-womans-club-bingo-night-11/
LOCATION:Russell Gates Mercantile\, 24223 Eccles St\, Elbert\, Colorado\, 80106
END:VEVENT
BEGIN:VEVENT
DTSTART;TZID=America/Denver:20230930T093000
DTEND;TZID=America/Denver:20230930T113000
DTSTAMP:20260424T175428
CREATED:20230614T221045Z
LAST-MODIFIED:20230614T221045Z
UID:3930-1696066200-1696073400@ourjourney.info
SUMMARY:Historic Walk & Talk
DESCRIPTION:followed by a free lunch. Main St\, Downtown\, Elizabeth
URL:https://ourjourney.info/event/historic-walk-talk-2/
LOCATION:CO
END:VEVENT
BEGIN:VEVENT
DTSTART;TZID=America/Denver:20230930T090000
DTEND;TZID=America/Denver:20230930T140000
DTSTAMP:20260424T175428
CREATED:20230614T221147Z
LAST-MODIFIED:20230614T221147Z
UID:3933-1696064400-1696082400@ourjourney.info
SUMMARY:Elbert County Marketplace
DESCRIPTION:
URL:https://ourjourney.info/event/elbert-county-marketplace-12/
LOCATION:Casey Jones Park\, 4189 CO-86\, Elizabeth\, CO\, 80107\, United States
END:VEVENT
BEGIN:VEVENT
DTSTART;TZID=America/Denver:20230924T090000
DTEND;TZID=America/Denver:20230924T130000
DTSTAMP:20260424T175428
CREATED:20230614T220900Z
LAST-MODIFIED:20230614T220900Z
UID:3924-1695546000-1695560400@ourjourney.info
SUMMARY:Kit Carson County Little Britches Rodeos
DESCRIPTION:
URL:https://ourjourney.info/event/kit-carson-county-little-britches-rodeos-4/
LOCATION:Kit Carson County Fairgrounds\, 815 15th Street\, Burlington\, Colorado\, 80807
END:VEVENT
BEGIN:VEVENT
DTSTART;TZID=America/Denver:20230924T080000
DTEND;TZID=America/Denver:20230924T120000
DTSTAMP:20260424T175428
CREATED:20230614T220937Z
LAST-MODIFIED:20230614T220937Z
UID:3927-1695542400-1695556800@ourjourney.info
SUMMARY:Elbert Woman’s Club Breakfast
DESCRIPTION:
URL:https://ourjourney.info/event/elbert-womans-club-breakfast-12/
LOCATION:Russell Gates Mercantile\, 24223 Eccles St\, Elbert\, Colorado\, 80106
END:VEVENT
BEGIN:VEVENT
DTSTART;TZID=America/Denver:20230923T120000
DTEND;TZID=America/Denver:20230923T220000
DTSTAMP:20260424T175428
CREATED:20230614T215420Z
LAST-MODIFIED:20230614T215420Z
UID:3916-1695470400-1695506400@ourjourney.info
SUMMARY:Elizabeth Area Chamber of Commerce Arts & Crafts Festival
DESCRIPTION:Pints in the park.
URL:https://ourjourney.info/event/elizabeth-area-chamber-of-commerce-arts-crafts-festival/
LOCATION:Casey Jones Park\, 4189 CO-86\, Elizabeth\, CO\, 80107\, United States
END:VEVENT
BEGIN:VEVENT
DTSTART;TZID=America/Denver:20230923T090000
DTEND;TZID=America/Denver:20230923T140000
DTSTAMP:20260424T175428
CREATED:20230614T215525Z
LAST-MODIFIED:20230614T215525Z
UID:3919-1695459600-1695477600@ourjourney.info
SUMMARY:Elbert County Marketplace
DESCRIPTION:
URL:https://ourjourney.info/event/elbert-county-marketplace-11/
LOCATION:Casey Jones Park\, 4189 CO-86\, Elizabeth\, CO\, 80107\, United States
END:VEVENT
BEGIN:VEVENT
DTSTART;TZID=America/Denver:20230923T090000
DTEND;TZID=America/Denver:20230923T130000
DTSTAMP:20260424T175428
CREATED:20230614T215243Z
LAST-MODIFIED:20230614T215243Z
UID:3913-1695459600-1695474000@ourjourney.info
SUMMARY:Kit Carson County Little Britches Rodeos
DESCRIPTION:
URL:https://ourjourney.info/event/kit-carson-county-little-britches-rodeos-3/
LOCATION:Kit Carson County Fairgrounds\, 815 15th Street\, Burlington\, Colorado\, 80807
END:VEVENT
BEGIN:VEVENT
DTSTART;TZID=America/Denver:20230917T140000
DTEND;TZID=America/Denver:20230917T160000
DTSTAMP:20260424T175428
CREATED:20230614T215106Z
LAST-MODIFIED:20230614T215106Z
UID:3910-1694959200-1694966400@ourjourney.info
SUMMARY:Free Roller Skating
DESCRIPTION:Bethel Community Center\, 9 Miles North of I-70 on County Rd 43\, Hwy. 63\, Arriba
URL:https://ourjourney.info/event/free-roller-skating-2/
LOCATION:Bethel Community Center
END:VEVENT
BEGIN:VEVENT
DTSTART;TZID=America/Denver:20230911T180000
DTEND;TZID=America/Denver:20230911T210000
DTSTAMP:20260424T175428
CREATED:20230614T214917Z
LAST-MODIFIED:20230614T214917Z
UID:3907-1694455200-1694466000@ourjourney.info
SUMMARY:Elbert Woman’s Club Bingo Night
DESCRIPTION:
URL:https://ourjourney.info/event/elbert-womans-club-bingo-night-10/
LOCATION:Russell Gates Mercantile\, 24223 Eccles St\, Elbert\, Colorado\, 80106
END:VEVENT
BEGIN:VEVENT
DTSTART;TZID=America/Denver:20230904T100000
DTEND;TZID=America/Denver:20230904T200000
DTSTAMP:20260424T175428
CREATED:20230614T214744Z
LAST-MODIFIED:20230614T214744Z
UID:3903-1693821600-1693857600@ourjourney.info
SUMMARY:Simla Day/Labor Day
DESCRIPTION:Hamburger Fry and Friends Book Sale. Simla Community Park\, 312 Pueblo Ave\, Simla
URL:https://ourjourney.info/event/simla-day-labor-day/
LOCATION:Simla Community Park
END:VEVENT
BEGIN:VEVENT
DTSTART;TZID=America/Denver:20230902T090000
DTEND;TZID=America/Denver:20230902T140000
DTSTAMP:20260424T175428
CREATED:20230614T214547Z
LAST-MODIFIED:20230614T214547Z
UID:3900-1693645200-1693663200@ourjourney.info
SUMMARY:Elbert County Marketplace
DESCRIPTION:
URL:https://ourjourney.info/event/elbert-county-marketplace-10/
LOCATION:Casey Jones Park\, 4189 CO-86\, Elizabeth\, CO\, 80107\, United States
END:VEVENT
BEGIN:VEVENT
DTSTART;TZID=America/Denver:20230827T090000
DTEND;TZID=America/Denver:20230827T140000
DTSTAMP:20260424T175428
CREATED:20230614T214242Z
LAST-MODIFIED:20230614T214242Z
UID:3894-1693126800-1693144800@ourjourney.info
SUMMARY:Kit Carson County Little Britches Rodeos
DESCRIPTION:
URL:https://ourjourney.info/event/kit-carson-county-little-britches-rodeos-2/
LOCATION:Kit Carson County Fairgrounds\, 815 15th Street\, Burlington\, Colorado\, 80807
END:VEVENT
BEGIN:VEVENT
DTSTART;TZID=America/Denver:20230827T080000
DTEND;TZID=America/Denver:20230827T120000
DTSTAMP:20260424T175428
CREATED:20230614T214421Z
LAST-MODIFIED:20230614T214421Z
UID:3897-1693123200-1693137600@ourjourney.info
SUMMARY:Elbert Woman’s Club Breakfast
DESCRIPTION:
URL:https://ourjourney.info/event/elbert-womans-club-breakfast-11/
LOCATION:Russell Gates Mercantile\, 24223 Eccles St\, Elbert\, Colorado\, 80106
END:VEVENT
BEGIN:VEVENT
DTSTART;TZID=America/Denver:20230826T180000
DTEND;TZID=America/Denver:20230826T200000
DTSTAMP:20260424T175428
CREATED:20230614T213853Z
LAST-MODIFIED:20230614T213853Z
UID:3885-1693072800-1693080000@ourjourney.info
SUMMARY:Limon Rotary Concert in the Park
DESCRIPTION:Band: Playing with Smoke.
URL:https://ourjourney.info/event/limon-rotary-concert-in-the-park-2/
LOCATION:Railroad Park\, 899 1st St\, Limon\, CO\, 80828\, United States
END:VEVENT
BEGIN:VEVENT
DTSTART;TZID=America/Denver:20230826T090000
DTEND;TZID=America/Denver:20230826T140000
DTSTAMP:20260424T175428
CREATED:20230614T214059Z
LAST-MODIFIED:20230614T214059Z
UID:3891-1693040400-1693058400@ourjourney.info
SUMMARY:Elbert County Marketplace
DESCRIPTION:
URL:https://ourjourney.info/event/elbert-county-marketplace-9/
LOCATION:Casey Jones Park\, 4189 CO-86\, Elizabeth\, CO\, 80107\, United States
END:VEVENT
BEGIN:VEVENT
DTSTART;TZID=America/Denver:20230826T090000
DTEND;TZID=America/Denver:20230826T130000
DTSTAMP:20260424T175428
CREATED:20230614T213717Z
LAST-MODIFIED:20230614T213717Z
UID:3882-1693040400-1693054800@ourjourney.info
SUMMARY:Kit Carson County Little Britches Rodeos
DESCRIPTION:
URL:https://ourjourney.info/event/kit-carson-county-little-britches-rodeos/
LOCATION:Kit Carson County Fairgrounds\, 815 15th Street\, Burlington\, Colorado\, 80807
END:VEVENT
BEGIN:VEVENT
DTSTART;VALUE=DATE:20230826
DTEND;VALUE=DATE:20230827
DTSTAMP:20260424T175428
CREATED:20230614T213953Z
LAST-MODIFIED:20230614T213953Z
UID:3888-1693008000-1693094399@ourjourney.info
SUMMARY:Annual Hub City Classic Car\, Truck & Motorcycle Show
DESCRIPTION:E Ave. & 2 nd St. &amp; Railroad St\, Limon
URL:https://ourjourney.info/event/annual-hub-city-classic-car-truck-motorcycle-show/
LOCATION:CO
END:VEVENT
BEGIN:VEVENT
DTSTART;TZID=America/Denver:20230825T183000
DTEND;TZID=America/Denver:20230825T203000
DTSTAMP:20260424T175428
CREATED:20230614T213617Z
LAST-MODIFIED:20230614T213617Z
UID:3879-1692988200-1692995400@ourjourney.info
SUMMARY:Town of Elizabeth Birthday Bash & Movie Night
DESCRIPTION:
URL:https://ourjourney.info/event/town-of-elizabeth-birthday-bash-movie-night/
LOCATION:500 E. Kiowa Ave\, Elizabeth\, 500 E. Kiowa Ave\, Elizabeth\, CO\, 80107\, United States
END:VEVENT
BEGIN:VEVENT
DTSTART;TZID=America/Denver:20230819T140000
DTEND;TZID=America/Denver:20230819T220000
DTSTAMP:20260424T175428
CREATED:20230614T213103Z
LAST-MODIFIED:20230614T213103Z
UID:3869-1692453600-1692482400@ourjourney.info
SUMMARY:Pioneer Days at Old Town Museum
DESCRIPTION:
URL:https://ourjourney.info/event/pioneer-days-at-old-town-museum/
LOCATION:Old Town Museum
END:VEVENT
BEGIN:VEVENT
DTSTART;TZID=America/Denver:20230819T110000
DTEND;TZID=America/Denver:20230819T130000
DTSTAMP:20260424T175428
CREATED:20230614T213433Z
LAST-MODIFIED:20230614T213433Z
UID:3872-1692442800-1692450000@ourjourney.info
SUMMARY:End of Summer Bash
DESCRIPTION:Elizabeth Parks & Rec – Evans Park\, Elizabeth
URL:https://ourjourney.info/event/end-of-summer-bash/
LOCATION:Evans Park\, 34201 County Road 17\, Elizabeth\, CO\, 80107\, United States
END:VEVENT
BEGIN:VEVENT
DTSTART;TZID=America/Denver:20230819T090000
DTEND;TZID=America/Denver:20230819T170000
DTSTAMP:20260424T175428
CREATED:20230614T213016Z
LAST-MODIFIED:20230614T213016Z
UID:3866-1692435600-1692464400@ourjourney.info
SUMMARY:Elbert County Ag Alliance – Homestead Fair
DESCRIPTION:
URL:https://ourjourney.info/event/elbert-county-ag-alliance-homestead-fair/
LOCATION:Elbert County Fairgrounds\, 95 Ute Ave\, Kiowa\, Colorado\, 80117
END:VEVENT
BEGIN:VEVENT
DTSTART;TZID=America/Denver:20230819T090000
DTEND;TZID=America/Denver:20230819T140000
DTSTAMP:20260424T175428
CREATED:20230614T213524Z
LAST-MODIFIED:20230614T213524Z
UID:3876-1692435600-1692453600@ourjourney.info
SUMMARY:Elbert County Marketplace
DESCRIPTION:
URL:https://ourjourney.info/event/elbert-county-marketplace-8/
LOCATION:Casey Jones Park\, 4189 CO-86\, Elizabeth\, CO\, 80107\, United States
END:VEVENT
BEGIN:VEVENT
DTSTART;TZID=America/Denver:20230818T170000
DTEND;TZID=America/Denver:20230818T210000
DTSTAMP:20260424T175428
CREATED:20230614T212752Z
LAST-MODIFIED:20230614T212752Z
UID:3860-1692378000-1692392400@ourjourney.info
SUMMARY:Friday Nights Markets'
DESCRIPTION:
URL:https://ourjourney.info/event/friday-nights-markets-8/
LOCATION:500 E. Kiowa Ave\, Elizabeth\, 500 E. Kiowa Ave\, Elizabeth\, CO\, 80107\, United States
END:VEVENT
BEGIN:VEVENT
DTSTART;VALUE=DATE:20230818
DTEND;VALUE=DATE:20230820
DTSTAMP:20260424T175428
CREATED:20230614T212910Z
LAST-MODIFIED:20230614T212910Z
UID:3863-1692316800-1692489599@ourjourney.info
SUMMARY:First Responders Relief Rodeo
DESCRIPTION:start time TBD. Elbert Colorado Fairgrounds\, Kiowa
URL:https://ourjourney.info/event/first-responders-relief-rodeo/
LOCATION:Elbert County Fairgrounds\, 95 Ute Ave\, Kiowa\, Colorado\, 80117
END:VEVENT
BEGIN:VEVENT
DTSTART;TZID=America/Denver:20230811T170000
DTEND;TZID=America/Denver:20230811T210000
DTSTAMP:20260424T175428
CREATED:20230614T212658Z
LAST-MODIFIED:20230614T212658Z
UID:3857-1691773200-1691787600@ourjourney.info
SUMMARY:Friday Nights Markets'
DESCRIPTION:
URL:https://ourjourney.info/event/friday-nights-markets-7/
LOCATION:500 E. Kiowa Ave\, Elizabeth\, 500 E. Kiowa Ave\, Elizabeth\, CO\, 80107\, United States
END:VEVENT
BEGIN:VEVENT
DTSTART;TZID=America/Denver:20230807T180000
DTEND;TZID=America/Denver:20230807T210000
DTSTAMP:20260424T175428
CREATED:20230614T212419Z
LAST-MODIFIED:20230614T212419Z
UID:3851-1691431200-1691442000@ourjourney.info
SUMMARY:Elbert Woman’s Club Bingo Night
DESCRIPTION:
URL:https://ourjourney.info/event/elbert-womans-club-bingo-night-9/
LOCATION:Russell Gates Mercantile\, 24223 Eccles St\, Elbert\, Colorado\, 80106
END:VEVENT
BEGIN:VEVENT
DTSTART;VALUE=DATE:20230807
DTEND;VALUE=DATE:20231013
DTSTAMP:20260424T175428
CREATED:20230614T212610Z
LAST-MODIFIED:20230614T212610Z
UID:3854-1691366400-1697155199@ourjourney.info
SUMMARY:Lincoln County Free Fair & Rodeo
DESCRIPTION:FFA & 4-H events & exhibits
URL:https://ourjourney.info/event/lincoln-county-free-fair-rodeo-2/
LOCATION:Lincoln County Fairgrounds\, 33747 County Road 2W\, Hugo\, CO\, 80821\, United States
END:VEVENT
BEGIN:VEVENT
DTSTART;TZID=America/Denver:20230805T090000
DTEND;TZID=America/Denver:20230805T140000
DTSTAMP:20260424T175428
CREATED:20230614T212323Z
LAST-MODIFIED:20230614T212323Z
UID:3848-1691226000-1691244000@ourjourney.info
SUMMARY:Elbert County Marketplace
DESCRIPTION:
URL:https://ourjourney.info/event/elbert-county-marketplace-7/
LOCATION:Casey Jones Park\, 4189 CO-86\, Elizabeth\, CO\, 80107\, United States
END:VEVENT
BEGIN:VEVENT
DTSTART;TZID=America/Denver:20230804T170000
DTEND;TZID=America/Denver:20230804T210000
DTSTAMP:20260424T175428
CREATED:20230614T212227Z
LAST-MODIFIED:20230614T212227Z
UID:3845-1691168400-1691182800@ourjourney.info
SUMMARY:Friday Nights Markets'
DESCRIPTION:
URL:https://ourjourney.info/event/friday-nights-markets-6/
LOCATION:500 E. Kiowa Ave\, Elizabeth\, 500 E. Kiowa Ave\, Elizabeth\, CO\, 80107\, United States
END:VEVENT
END:VCALENDAR