BEGIN:VCALENDAR
VERSION:2.0
PRODID:-// - ECPv6.15.20//NONSGML v1.0//EN
CALSCALE:GREGORIAN
METHOD:PUBLISH
X-ORIGINAL-URL:https://ourjourney.info
X-WR-CALDESC:Events for 
REFRESH-INTERVAL;VALUE=DURATION:PT1H
X-Robots-Tag:noindex
X-PUBLISHED-TTL:PT1H
BEGIN:VTIMEZONE
TZID:America/Denver
BEGIN:DAYLIGHT
TZOFFSETFROM:-0700
TZOFFSETTO:-0600
TZNAME:MDT
DTSTART:20230312T090000
END:DAYLIGHT
BEGIN:STANDARD
TZOFFSETFROM:-0600
TZOFFSETTO:-0700
TZNAME:MST
DTSTART:20231105T080000
END:STANDARD
BEGIN:DAYLIGHT
TZOFFSETFROM:-0700
TZOFFSETTO:-0600
TZNAME:MDT
DTSTART:20240310T090000
END:DAYLIGHT
BEGIN:STANDARD
TZOFFSETFROM:-0600
TZOFFSETTO:-0700
TZNAME:MST
DTSTART:20241103T080000
END:STANDARD
BEGIN:DAYLIGHT
TZOFFSETFROM:-0700
TZOFFSETTO:-0600
TZNAME:MDT
DTSTART:20250309T090000
END:DAYLIGHT
BEGIN:STANDARD
TZOFFSETFROM:-0600
TZOFFSETTO:-0700
TZNAME:MST
DTSTART:20251102T080000
END:STANDARD
BEGIN:DAYLIGHT
TZOFFSETFROM:-0700
TZOFFSETTO:-0600
TZNAME:MDT
DTSTART:20260308T090000
END:DAYLIGHT
BEGIN:STANDARD
TZOFFSETFROM:-0600
TZOFFSETTO:-0700
TZNAME:MST
DTSTART:20261101T080000
END:STANDARD
END:VTIMEZONE
BEGIN:VEVENT
DTSTART;TZID=America/Denver:20250607T160000
DTEND;TZID=America/Denver:20250607T183000
DTSTAMP:20260423T174932
CREATED:20250513T205931Z
LAST-MODIFIED:20250513T205931Z
UID:4497-1749312000-1749321000@ourjourney.info
SUMMARY:Kiowa Music in the Park featuring Sarah P. & The Dirty Logger
DESCRIPTION:Bring lawn chairs or blankets. Nordman Memorial Park\, 201 Navajo St\, Kiowa
URL:https://ourjourney.info/event/kiowa-music-in-the-park-featuring-sarah-p-the-dirty-logger/
END:VEVENT
BEGIN:VEVENT
DTSTART;TZID=America/Denver:20250607T130000
DTEND;TZID=America/Denver:20250607T170000
DTSTAMP:20260423T174932
CREATED:20250513T205930Z
LAST-MODIFIED:20250513T205930Z
UID:4496-1749301200-1749315600@ourjourney.info
SUMMARY:Elizabeth Stampede Saturday
DESCRIPTION:Ag Appreciation Day & Roping\, riding and racing at Casey Jones Arena\, Elizabeth
URL:https://ourjourney.info/event/elizabeth-stampede-saturday/
END:VEVENT
BEGIN:VEVENT
DTSTART;TZID=America/Denver:20250606T190000
DTEND;TZID=America/Denver:20250606T230000
DTSTAMP:20260423T174932
CREATED:20250513T205928Z
LAST-MODIFIED:20250513T205928Z
UID:4495-1749236400-1749250800@ourjourney.info
SUMMARY:Elizabeth Stampede Friday
DESCRIPTION:Hometown Heroes PRCA Rodeo at Casey Jones Arena\, Elizabeth
URL:https://ourjourney.info/event/elizabeth-stampede-friday/
END:VEVENT
BEGIN:VEVENT
DTSTART;TZID=America/Denver:20250605T181500
DTEND;TZID=America/Denver:20250605T200000
DTSTAMP:20260423T174932
CREATED:20250513T205928Z
LAST-MODIFIED:20250513T205928Z
UID:4494-1749147300-1749153600@ourjourney.info
SUMMARY:Elizabeth Stampede Concert
DESCRIPTION:Chase Rice\, Jake Worthington\, & Double Wide at Casey Jones Arena\, Elizabeth
URL:https://ourjourney.info/event/elizabeth-stampede-concert-3/
END:VEVENT
BEGIN:VEVENT
DTSTART;TZID=America/Denver:20250526T113000
DTEND;TZID=America/Denver:20250526T133000
DTSTAMP:20260423T174932
CREATED:20250513T205927Z
LAST-MODIFIED:20250513T205927Z
UID:4493-1748259000-1748266200@ourjourney.info
SUMMARY:Hedlund House Museum Ice Cream Social
DESCRIPTION:Donations accepted\, 617 3rd Ave\, Hugo
URL:https://ourjourney.info/event/hedlund-house-museum-ice-cream-social/
END:VEVENT
BEGIN:VEVENT
DTSTART;TZID=America/Denver:20250525T113000
DTEND;TZID=America/Denver:20250525T140000
DTSTAMP:20260423T174932
CREATED:20250513T205927Z
LAST-MODIFIED:20250513T205927Z
UID:4492-1748172600-1748181600@ourjourney.info
SUMMARY:Kit Carson Museum
DESCRIPTION:11:30AM-2PM\,Pulled pork sandwiches with sides. Open to the public. 202 West Hwy 40/287\, Kit Carson
URL:https://ourjourney.info/event/kit-carson-museum/
END:VEVENT
BEGIN:VEVENT
DTSTART;TZID=America/Denver:20250524T160000
DTEND;TZID=America/Denver:20250524T183000
DTSTAMP:20260423T174932
CREATED:20250513T205926Z
LAST-MODIFIED:20250513T205926Z
UID:4491-1748102400-1748111400@ourjourney.info
SUMMARY:Kiowa Music in the Park featuring These Guys
DESCRIPTION:Bring lawn chairs or blankets. Nordman Memorial Park\, 201 Navajo St\, Kiowa
URL:https://ourjourney.info/event/kiowa-music-in-the-park-featuring-these-guys/
END:VEVENT
BEGIN:VEVENT
DTSTART;TZID=America/Denver:20241221T090000
DTEND;TZID=America/Denver:20241221T150000
DTSTAMP:20260423T174932
CREATED:20240514T155234Z
LAST-MODIFIED:20240514T155234Z
UID:4400-1734771600-1734793200@ourjourney.info
SUMMARY:Christmas Vendor Fair w/Parade of Lights at 6PM
DESCRIPTION:
URL:https://ourjourney.info/event/christmas-vendor-fair-w-parade-of-lights-at-6pm/
LOCATION:Hub City Senior Center\, 220 E Ave.\, Limon\, CO\, 80828\, United States
END:VEVENT
BEGIN:VEVENT
DTSTART;TZID=America/Denver:20241221T090000
DTEND;TZID=America/Denver:20241221T120000
DTSTAMP:20260423T174932
CREATED:20240514T155059Z
LAST-MODIFIED:20240514T155059Z
UID:4398-1734771600-1734782400@ourjourney.info
SUMMARY:Breakfast with Santa
DESCRIPTION:Breakfast served 9-11AM. Bounce house\, face painting\, cookie walk\, pictures with Santa & Mrs. Clause\, book give-away\, train ride & more! Free will donation encouraged.
URL:https://ourjourney.info/event/breakfast-with-santa-3/
LOCATION:Burlington Community & Education Center\, 340 S 14th Street\, Burlington\, CO\, 80807\, United States
END:VEVENT
BEGIN:VEVENT
DTSTART;TZID=America/Denver:20241208T133000
DTEND;TZID=America/Denver:20241208T153000
DTSTAMP:20260423T174932
CREATED:20240514T154950Z
LAST-MODIFIED:20240514T154950Z
UID:4396-1733664600-1733671800@ourjourney.info
SUMMARY:Carousel Christmas
DESCRIPTION:
URL:https://ourjourney.info/event/carousel-christmas-2/
LOCATION:KCC Carousel\, 815 N 15th Street\, Burlington\, CO\, 80807\, United States
END:VEVENT
BEGIN:VEVENT
DTSTART;TZID=America/Denver:20241207T150000
DTEND;TZID=America/Denver:20241207T180000
DTSTAMP:20260423T174932
CREATED:20240514T154903Z
LAST-MODIFIED:20240514T154903Z
UID:4394-1733583600-1733594400@ourjourney.info
SUMMARY:Mayor’s Tree Lighting
DESCRIPTION:
URL:https://ourjourney.info/event/mayors-tree-lighting/
LOCATION:Main St.\, Elizabeth
END:VEVENT
BEGIN:VEVENT
DTSTART;TZID=America/Denver:20241207T090000
DTEND;TZID=America/Denver:20241207T150000
DTSTAMP:20260423T174932
CREATED:20240514T154820Z
LAST-MODIFIED:20240514T154820Z
UID:4392-1733562000-1733583600@ourjourney.info
SUMMARY:Craft Fair
DESCRIPTION:Vendors selling Hand-Made items only.
URL:https://ourjourney.info/event/craft-fair-4/
LOCATION:Burlington Community & Education Center\, 340 S 14th Street\, Burlington\, CO\, 80807\, United States
END:VEVENT
BEGIN:VEVENT
DTSTART;VALUE=DATE:20241206
DTEND;VALUE=DATE:20241228
DTSTAMP:20260423T174932
CREATED:20240514T154722Z
LAST-MODIFIED:20240514T154722Z
UID:4390-1733443200-1735343999@ourjourney.info
SUMMARY:Winter Wonderlights
DESCRIPTION:Nightly 5-9PM
URL:https://ourjourney.info/event/winter-wonderlights-6/
LOCATION:Old Town Museum
END:VEVENT
BEGIN:VEVENT
DTSTART;TZID=America/Denver:20241202T180000
DTEND;TZID=America/Denver:20241202T210000
DTSTAMP:20260423T174932
CREATED:20240514T154601Z
LAST-MODIFIED:20240514T154601Z
UID:4388-1733162400-1733173200@ourjourney.info
SUMMARY:Elbert Woman’s Club Bingo Night
DESCRIPTION:
URL:https://ourjourney.info/event/elbert-womans-club-bingo-night-20/
LOCATION:Russell Gates Mercantile\, 24223 Eccles St\, Elbert\, Colorado\, 80106
END:VEVENT
BEGIN:VEVENT
DTSTART;TZID=America/Denver:20241116T150000
DTEND;TZID=America/Denver:20241116T180000
DTSTAMP:20260423T174932
CREATED:20240514T154512Z
LAST-MODIFIED:20240514T154512Z
UID:4385-1731769200-1731780000@ourjourney.info
SUMMARY:Christmas for Kids Kick-off & Kiowa Tree Lighting & Lighted Car Parade
DESCRIPTION:
URL:https://ourjourney.info/event/christmas-for-kids-kick-off-kiowa-tree-lighting-lighted-car-parade/
LOCATION:525 Comanche St.\, Kiowa
END:VEVENT
BEGIN:VEVENT
DTSTART;TZID=America/Denver:20241109T090000
DTEND;TZID=America/Denver:20241109T160000
DTSTAMP:20260423T174932
CREATED:20240514T154412Z
LAST-MODIFIED:20240514T154412Z
UID:4383-1731142800-1731168000@ourjourney.info
SUMMARY:Elbert Woman’s Club Annual Christmas Craft Bazaar
DESCRIPTION:
URL:https://ourjourney.info/event/elbert-womans-club-annual-christmas-craft-bazaar-2/
LOCATION:Russell Gates Mercantile\, 24223 Eccles St\, Elbert\, Colorado\, 80106
END:VEVENT
BEGIN:VEVENT
DTSTART;TZID=America/Denver:20241104T180000
DTEND;TZID=America/Denver:20241104T210000
DTSTAMP:20260423T174932
CREATED:20240514T154237Z
LAST-MODIFIED:20240514T154237Z
UID:4381-1730743200-1730754000@ourjourney.info
SUMMARY:Elbert Woman’s Club Bingo Night
DESCRIPTION:
URL:https://ourjourney.info/event/elbert-womans-club-bingo-night-19/
LOCATION:Russell Gates Mercantile\, 24223 Eccles St\, Elbert\, Colorado\, 80106
END:VEVENT
BEGIN:VEVENT
DTSTART;TZID=America/Denver:20241102T090000
DTEND;TZID=America/Denver:20241102T140000
DTSTAMP:20260423T174932
CREATED:20240514T154154Z
LAST-MODIFIED:20240514T154154Z
UID:4379-1730538000-1730556000@ourjourney.info
SUMMARY:Holiday Gift Gala
DESCRIPTION:Vendors selling commercial & hand-made items w/onsite catering
URL:https://ourjourney.info/event/holiday-gift-gala-4/
LOCATION:Burlington Community & Education Center\, 340 S 14th Street\, Burlington\, CO\, 80807\, United States
END:VEVENT
BEGIN:VEVENT
DTSTART;TZID=America/Denver:20241027T080000
DTEND;TZID=America/Denver:20241027T120000
DTSTAMP:20260423T174932
CREATED:20240514T154002Z
LAST-MODIFIED:20240514T154002Z
UID:4377-1730016000-1730030400@ourjourney.info
SUMMARY:Elbert Woman’s Club Breakfast
DESCRIPTION:
URL:https://ourjourney.info/event/elbert-womans-club-breakfast-18/
LOCATION:Russell Gates Mercantile\, 24223 Eccles St\, Elbert\, Colorado\, 80106
END:VEVENT
BEGIN:VEVENT
DTSTART;TZID=America/Denver:20241026T150000
DTEND;TZID=America/Denver:20241026T170000
DTSTAMP:20260423T174932
CREATED:20240514T153858Z
LAST-MODIFIED:20240514T153858Z
UID:4375-1729954800-1729962000@ourjourney.info
SUMMARY:Old Town Ghost Town
DESCRIPTION:FREE community wide trick-or-treat event\, family friendly haunted house in the barn.
URL:https://ourjourney.info/event/old-town-ghost-town-3/
LOCATION:Old Town Museum
END:VEVENT
BEGIN:VEVENT
DTSTART;TZID=America/Denver:20241019T120000
DTEND;TZID=America/Denver:20241019T120000
DTSTAMP:20260423T174932
CREATED:20240514T153800Z
LAST-MODIFIED:20240514T153800Z
UID:4372-1729339200-1729339200@ourjourney.info
SUMMARY:Harvest Festival
DESCRIPTION:
URL:https://ourjourney.info/event/harvest-festival/
LOCATION:Forty Mile Feed\, 10240 Hwy. 86\, Kiowa\, CO\, 80117\, United States
END:VEVENT
BEGIN:VEVENT
DTSTART;TZID=America/Denver:20241007T180000
DTEND;TZID=America/Denver:20241007T210000
DTSTAMP:20260423T174932
CREATED:20240514T153603Z
LAST-MODIFIED:20240514T153603Z
UID:4370-1728324000-1728334800@ourjourney.info
SUMMARY:Elbert Woman’s Club Bingo Night
DESCRIPTION:
URL:https://ourjourney.info/event/elbert-womans-club-bingo-night-18/
LOCATION:Russell Gates Mercantile\, 24223 Eccles St\, Elbert\, Colorado\, 80106
END:VEVENT
BEGIN:VEVENT
DTSTART;TZID=America/Denver:20240922T080000
DTEND;TZID=America/Denver:20240922T120000
DTSTAMP:20260423T174932
CREATED:20240514T144747Z
LAST-MODIFIED:20240514T144747Z
UID:4368-1726992000-1727006400@ourjourney.info
SUMMARY:Elbert Woman’s Club Breakfast
DESCRIPTION:
URL:https://ourjourney.info/event/elbert-womans-club-breakfast-17/
LOCATION:Russell Gates Mercantile\, 24223 Eccles St\, Elbert\, Colorado\, 80106
END:VEVENT
BEGIN:VEVENT
DTSTART;TZID=America/Denver:20240921T183000
DTEND;TZID=America/Denver:20240921T213000
DTSTAMP:20260423T174932
CREATED:20240514T144656Z
LAST-MODIFIED:20240514T144656Z
UID:4366-1726943400-1726954200@ourjourney.info
SUMMARY:Elizabeth Birthday Bash Movie Night
DESCRIPTION:
URL:https://ourjourney.info/event/elizabeth-birthday-bash-movie-night/
LOCATION:500 E. Kiowa Ave\, Elizabeth\, 500 E. Kiowa Ave\, Elizabeth\, CO\, 80107\, United States
END:VEVENT
BEGIN:VEVENT
DTSTART;TZID=America/Denver:20240921T140000
DTEND;TZID=America/Denver:20240921T190000
DTSTAMP:20260423T174932
CREATED:20240514T144441Z
LAST-MODIFIED:20240514T144441Z
UID:4364-1726927200-1726945200@ourjourney.info
SUMMARY:150th Anniversary Old West Celebration
DESCRIPTION:
URL:https://ourjourney.info/event/150th-anniversary-old-west-celebration/
LOCATION:Elbert County Fairgrounds\, 95 Ute Ave\, Kiowa\, Colorado\, 80117
END:VEVENT
BEGIN:VEVENT
DTSTART;TZID=America/Denver:20240914T173000
DTEND;TZID=America/Denver:20240914T220000
DTSTAMP:20260423T174932
CREATED:20240514T144201Z
LAST-MODIFIED:20240514T144201Z
UID:4361-1726335000-1726351200@ourjourney.info
SUMMARY:Limon Rotary Mouse Race Fundraiser
DESCRIPTION:
URL:https://ourjourney.info/event/limon-rotary-mouse-race-fundraiser/
LOCATION:489 Indiana Ave.\, 489 Indiana Ave.\, Limon\, CO\, 80828\, United States
END:VEVENT
BEGIN:VEVENT
DTSTART;TZID=America/Denver:20240914T100000
DTEND;TZID=America/Denver:20240914T200000
DTSTAMP:20260423T174932
CREATED:20240514T143036Z
LAST-MODIFIED:20240514T143036Z
UID:4359-1726308000-1726344000@ourjourney.info
SUMMARY:Protectors of Elizabeth
DESCRIPTION:
URL:https://ourjourney.info/event/protectors-of-elizabeth/
LOCATION:500 E. Kiowa Ave\, Elizabeth\, 500 E. Kiowa Ave\, Elizabeth\, CO\, 80107\, United States
END:VEVENT
BEGIN:VEVENT
DTSTART;TZID=America/Denver:20240909T180000
DTEND;TZID=America/Denver:20240909T210000
DTSTAMP:20260423T174932
CREATED:20240514T142940Z
LAST-MODIFIED:20240514T142940Z
UID:4357-1725904800-1725915600@ourjourney.info
SUMMARY:Elbert Woman’s Club Bingo Night
DESCRIPTION:
URL:https://ourjourney.info/event/elbert-womans-club-bingo-night-17/
LOCATION:Russell Gates Mercantile\, 24223 Eccles St\, Elbert\, Colorado\, 80106
END:VEVENT
BEGIN:VEVENT
DTSTART;TZID=America/Denver:20240907T080000
DTEND;TZID=America/Denver:20240907T130000
DTSTAMP:20260423T174932
CREATED:20240514T142720Z
LAST-MODIFIED:20240514T142720Z
UID:4352-1725696000-1725714000@ourjourney.info
SUMMARY:Historic Main Street 5K & family color run
DESCRIPTION:
URL:https://ourjourney.info/event/historic-main-street-5k-family-color-run/
LOCATION:Main St.\, Elizabeth
END:VEVENT
BEGIN:VEVENT
DTSTART;VALUE=DATE:20240907
DTEND;VALUE=DATE:20240909
DTSTAMP:20260423T174932
CREATED:20240514T142835Z
LAST-MODIFIED:20240514T142835Z
UID:4355-1725667200-1725839999@ourjourney.info
SUMMARY:Kit Carson County Little Britches Rodeo
DESCRIPTION:9AM start
URL:https://ourjourney.info/event/kit-carson-county-little-britches-rodeo-6/
LOCATION:Kit Carson County Fairgrounds\, 815 15th Street\, Burlington\, Colorado\, 80807
END:VEVENT
END:VCALENDAR